BEGIN:VCALENDAR
VERSION:2.0
PRODID:-//wp-events-plugin.com//7.2.3.1//EN
TZID:Europe/Amsterdam
X-WR-TIMEZONE:Europe/Amsterdam
BEGIN:VEVENT
UID:38630@agenda-zaanstreek.nl
DTSTART;TZID=Europe/Amsterdam:20250614T130000
DTEND;TZID=Europe/Amsterdam:20250614T130000
DTSTAMP:20250508T154642Z
URL:https://agenda-zaanstreek.nl/events/masterclass-saggarstoken/
SUMMARY:Masterclass saggarstoken
DESCRIPTION:\nMasterclass saggarstoken met korting!!\n14 juni 13.00. Amster
 dam ( www.rakuexperience.com)\n\n\nVoor inmiddels de derde keer organiseer
  ik tijdends de Tengel Atelierroute\, een masterclass saggarfiring. Juist 
 op deze dagen\, wanneer een groot gedeelte van mijn werk zichtbaar is op m
 ijn eigen locatie\, biedt dit een unieke mogelijkheid om je onder te dompe
 len in de wereld van saggarfiring.\nOok voor belangstellenden zonder enige
  keramiekervaring is deelname mogelijk. Je krijgt namelijk de kans om twee
  werken gereed te maken voor de firing. Aangezien je onderdeel uitmaakt va
 n de kunstroute en er publiek aanwezig is\, geven we ook samen een demonst
 ratie\, waardoor je korting ontvangt. In plaats van 225 euro betaal je nu 
 slechts 149 euro. Naast een enorme hoeveelheid informatie ga je ook met tw
 ee werkstukken naar huis.\nLet op: er zijn maar 5 plaatsen beschikbaar. Re
 serveren kan via 0655727696 of raku@ziggo.nl.\n
CATEGORIES:Cursus Workshop
LOCATION:Raku Experience\, Klaverland 12\, Wormer\, Nederland
X-APPLE-STRUCTURED-LOCATION;VALUE=URI;X-ADDRESS=Klaverland 12\, Wormer\, Ne
 derland;X-APPLE-RADIUS=100;X-TITLE=Raku Experience:geo:0,0
END:VEVENT
BEGIN:VTIMEZONE
TZID:Europe/Amsterdam
X-LIC-LOCATION:Europe/Amsterdam
BEGIN:DAYLIGHT
DTSTART:20250330T030000
TZOFFSETFROM:+0100
TZOFFSETTO:+0200
TZNAME:CEST
END:DAYLIGHT
END:VTIMEZONE
END:VCALENDAR