BEGIN:VCALENDAR
VERSION:2.0
PRODID:-//wp-events-plugin.com//7.2.3.1//EN
TZID:Europe/Amsterdam
X-WR-TIMEZONE:Europe/Amsterdam
BEGIN:VEVENT
UID:39178@agenda-zaanstreek.nl
DTSTART;TZID=Europe/Amsterdam:20250628T100000
DTEND;TZID=Europe/Amsterdam:20250628T130000
DTSTAMP:20250618T095807Z
URL:https://agenda-zaanstreek.nl/events/masterclass-kamermuziek-zomerklank
 en-muziekweekend/
SUMMARY:Masterclass kamermuziek Zomerklanken Muziekweekend
DESCRIPTION:\n\n28.06.2025\n\n\n\n\n\n\n\n\n\n&nbsp\;\n\n\n\n\n\n\nMastercl
 ass kamermuziek door MuziekHaven musici Maria Milstein en Mathieu van Bell
 en tijdens het Zomerklanken Muziekweekend.\n\nDeze musici van wereld topni
 veau weten wat het betekent om de eerste stappen te zetten in de wondere w
 ereld van de klassieke muziek\, en nemen de masterclass deelnemers en de t
 oehoorders hier graag in mee!\n\nBen jij die gevorderde en gedreven muzika
 nt die de sterren van de hemel wil spelen? geef je op voor de masterclass 
 kamermuziek (alle leeftijden) op zaterdag 28 juni. Voor de masterclass kam
 ermuziek vragen we je om eigen pianist mee te nemen (indien van toepassing
 ).\n\n\n\n\n\n\n\nPRAKTISCHE INFO\n\n\n\n\n\n&nbsp\;\n\n\n\n\n\n\nLocatie:
 &nbsp\;Fluxus locatie Muziekschool\, Westzijde 148 Zaandam\n\nTijd:&nbsp\;
 10.00 – 13.00 uur\n\nPrijs deelname :&nbsp\;€ 5\,- (publiek gratis)\n\
 nAanmelden:&nbsp\;via aanmeldformulier&nbsp\;max 5 ensembles vol = vol\n\n
 Vanwege de beperkte plaatsen vragen we je na aanmelding via het formulier 
 een kort filmpje te sturen naar&nbsp\;etebbe@fluxus.nl&nbsp\;waarin je mus
 iceert\, zodat we een gevarieerd programma kunnen samenstellen.&nbsp\;Voor
  21 juni&nbsp\;krijg je bericht over je deelname.\n\n\n\n\n\n\n
CATEGORIES:Cursus Workshop,Muziek
LOCATION:Fluxus\, centrum voor de kunsten - locatie Verkade\, Westzijde 168
 \, Zaandam\, 1506 EK\, Nederland
X-APPLE-STRUCTURED-LOCATION;VALUE=URI;X-ADDRESS=Westzijde 168\, Zaandam\, 1
 506 EK\, Nederland;X-APPLE-RADIUS=100;X-TITLE=Fluxus\, centrum voor de kun
 sten - locatie Verkade:geo:0,0
END:VEVENT
BEGIN:VTIMEZONE
TZID:Europe/Amsterdam
X-LIC-LOCATION:Europe/Amsterdam
BEGIN:DAYLIGHT
DTSTART:20250330T030000
TZOFFSETFROM:+0100
TZOFFSETTO:+0200
TZNAME:CEST
END:DAYLIGHT
END:VTIMEZONE
END:VCALENDAR