BEGIN:VCALENDAR
VERSION:2.0
PRODID:-//wp-events-plugin.com//7.2.3.1//EN
TZID:Europe/Amsterdam
X-WR-TIMEZONE:Europe/Amsterdam
BEGIN:VEVENT
UID:33876@agenda-zaanstreek.nl
DTSTART;TZID=Europe/Amsterdam:20241115T203000
DTEND;TZID=Europe/Amsterdam:20241115T203000
DTSTAMP:20240718T093216Z
URL:https://agenda-zaanstreek.nl/events/mary-gauthier-saved-by-a-song/
SUMMARY:Mary Gauthier | Saved by a song
DESCRIPTION:VRIJDAG 15 NOVEMBER 20.30 UUR - DINSDAG 15 OKTOBER\nwww.theater
 oostzaan.nl/15-november-2024-mary-gauthier\nT\nPrijs: € 24.00 inclusief 
 consumptie\n\n\nMary Gauthier is één van de grote namen van de Amerikaan
 se roots-muziek en ze mag Bob Dylan tot haar fans rekenen. Ze schrijft dan
  ook al een kleine dertig jaar grootse en indringende liedjes met gloedvol
 le verhalen over mensen die het niet makkelijk hebben. Daarbij put Mary de
 els uit eigen ervaringen\, en vertelt ze hoe de passie voor muziek haar re
 dding werd. En ze wordt beter met de jaren. Haar voorlaatste album\, ‘Ri
 fles &amp\; rosary beads’ werd zelfs genomineerd voor de prestigieuze Gr
 ammy Award. Tijdens dit concert speelt Gauthier de publieksfavorieten van 
 haar elf studioplaten\, vergezeld door gitarist en zangeres Jaimee Harris.
  De liedjes wisselt ze af met het voorlezen van fragmenten uit haar boek 
 ‘Saved by a song’. Henk Kuiper\, programmeur van Theater de KunstGreep
 \, zag Mary twee jaar geleden tijdens het toonaangevende TakeRoot Festival
  in Groningen: “Haar liedjes en verhalen maakten diepe indruk. Het publi
 ek was muisstil en velen verlieten geroerd de zaal. Zo’n top-artiest hal
 en we graag naar Oostzaan!\n\n
CATEGORIES:Muziek
LOCATION:De KunstGreep\, Kerkbuurt 4\, Oostzaan\, 1511 BD\, Nederland
X-APPLE-STRUCTURED-LOCATION;VALUE=URI;X-ADDRESS=Kerkbuurt 4\, Oostzaan\, 15
 11 BD\, Nederland;X-APPLE-RADIUS=100;X-TITLE=De KunstGreep:geo:0,0
END:VEVENT
BEGIN:VTIMEZONE
TZID:Europe/Amsterdam
X-LIC-LOCATION:Europe/Amsterdam
BEGIN:STANDARD
DTSTART:20241027T020000
TZOFFSETFROM:+0200
TZOFFSETTO:+0100
TZNAME:CET
END:STANDARD
END:VTIMEZONE
END:VCALENDAR