BEGIN:VCALENDAR
VERSION:2.0
PRODID:-//wp-events-plugin.com//7.2.3.1//EN
TZID:Europe/Amsterdam
X-WR-TIMEZONE:Europe/Amsterdam
BEGIN:VEVENT
UID:35585@agenda-zaanstreek.nl
DTSTART;TZID=Europe/Amsterdam:20250425T201500
DTEND;TZID=Europe/Amsterdam:20250425T201500
DTSTAMP:20241031T134126Z
URL:https://agenda-zaanstreek.nl/events/martijn-koning-try-out-try-out-tou
 rnee/
SUMMARY:Martijn Koning (try-out) - Try-out tournee
DESCRIPTION:Martijn Koning kan écht try-outen\, als een malle. Omdat hij n
 iet bang is om dingen uit te proberen\, gedachtes voor het eerst hardop ui
 t te spreken\, grappen te slijpen waar je bij zit. Hij vertrouwt op een go
 ede voorbereiding\, en laat die vervolgens op het podium helemaal los\,\n\
 n\nimproviseert hij zich een route richting de ‘uitgang’. Het is ècht
 \, het is nú\, jij kunt erbij zijn\, hij ontvangt je met open armen.\n\n
 ‘Met schuimend spelplezier zet Koning zijn verbazing en overtuigingen ne
 er […] Wat gebleven is\, is de onmiskenbare charme en energie van zijn o
 ptreden. Hij creëert nieuwe sprookjes\, dialogen en beeldt al die werelde
 n uit.’ (NRC)\n\n‘Het escapisme van Martijn Koning is krachtvoer voor 
 de lachspieren.’ (Parool)\n\nBeluister ook de Knorrepodcast\, de podcast
  van Martijn Koning waarin comedians nieuw grappig materiaal op elkaar uit
 proberen en ouwehoeren over van alles en nog wat.\n\nhttps://vriendvandesh
 ow.nl/knorrepodcast\n\nSocial media\nTwitter:@Martijnk0ning\nInstagram: @m
 artijntje_koning\n\n 	Datum: 25 april 2025\n 	Aanvang: 20.15 uur\n 	Ticket
 prijs: € 20\,00\n 	Inclusief consumptie\n 	Cabaret\n\n\nTickets bestelle
 n
CATEGORIES:Cabaret
LOCATION:Theater de Kaasfabriek\, Dorpsstraat 206\, Wormer\, 1531 HS\, Worm
 er\, Nederland
X-APPLE-STRUCTURED-LOCATION;VALUE=URI;X-ADDRESS=Dorpsstraat 206\, Wormer\, 
 1531 HS\, Wormer\, Nederland;X-APPLE-RADIUS=100;X-TITLE=Theater de Kaasfab
 riek:geo:0,0
END:VEVENT
BEGIN:VTIMEZONE
TZID:Europe/Amsterdam
X-LIC-LOCATION:Europe/Amsterdam
BEGIN:DAYLIGHT
DTSTART:20250330T030000
TZOFFSETFROM:+0100
TZOFFSETTO:+0200
TZNAME:CEST
END:DAYLIGHT
END:VTIMEZONE
END:VCALENDAR