BEGIN:VCALENDAR
VERSION:2.0
PRODID:-//wp-events-plugin.com//7.2.3.1//EN
TZID:Europe/Amsterdam
X-WR-TIMEZONE:Europe/Amsterdam
BEGIN:VEVENT
UID:37654@agenda-zaanstreek.nl
DTSTART;TZID=Europe/Amsterdam:20250313T203000
DTEND;TZID=Europe/Amsterdam:20250313T203000
DTSTAMP:20250306T201213Z
URL:https://agenda-zaanstreek.nl/events/martijn-crins-he-fijn/
SUMMARY:Martijn Crins - Hè fijn
DESCRIPTION:\n\n\n 	Cabaret\n\n\n\n\nJarenlang hebben we precies kunnen doe
 n waar we zin in hadden. Vreten\, zuipen\, feesten\; het kon niet op. Maar
  nu de wereld zich stilaan naar de afgrond lijkt de bewegen\, zullen we co
 llectief volwassen moeten worden. We moeten ons gaan beheersen. Beteugelen
 . En laat dat nou hetgeen zijn waar Martijn al zijn hele leven mee worstel
 t. In zijn tweede programma&nbsp\;Hè fijn&nbsp\;gaat hij de strijd aan me
 t zijn driften. Eerlijk\, brutaal en volslagen eigenzinnig kijkt hij eens 
 stevig in de dooie hoek van ons bestaan.&nbsp\;Hè fijn\, een ode aan de p
 loeterende mens.&nbsp\;\n\n\n\n\n\nPrijzen\n\n\n\n\n\nRecensies\n\n\n\n\nE
 xtra informatie:\n\n\n\n\n\ndo13 mrt 202520.30Kleine ZaalBestel\n\n
CATEGORIES:Cabaret
LOCATION:Zaantheater\, Nicolaasstraat 3\, Zaandam\, 1506 BB\, Nederland
X-APPLE-STRUCTURED-LOCATION;VALUE=URI;X-ADDRESS=Nicolaasstraat 3\, Zaandam\
 , 1506 BB\, Nederland;X-APPLE-RADIUS=100;X-TITLE=Zaantheater:geo:0,0
END:VEVENT
BEGIN:VTIMEZONE
TZID:Europe/Amsterdam
X-LIC-LOCATION:Europe/Amsterdam
BEGIN:STANDARD
DTSTART:20241027T020000
TZOFFSETFROM:+0200
TZOFFSETTO:+0100
TZNAME:CET
END:STANDARD
END:VTIMEZONE
END:VCALENDAR