BEGIN:VCALENDAR
VERSION:2.0
PRODID:-//wp-events-plugin.com//7.2.3.1//EN
TZID:Europe/Amsterdam
X-WR-TIMEZONE:Europe/Amsterdam
BEGIN:VEVENT
UID:39084@agenda-zaanstreek.nl
DTSTART;TZID=Europe/Amsterdam:20250622T150000
DTEND;TZID=Europe/Amsterdam:20250622T190000
DTSTAMP:20250605T094318Z
URL:https://agenda-zaanstreek.nl/events/mardi-swing-bij-mooi-weer-op-terra
 s/
SUMMARY:Mardi Swing - Bij mooi weer op terras
DESCRIPTION:\n\n&nbsp\;\n\n\n\n\n\n\n\n\n22 juni&nbsp\;15:00&nbsp\;–&nbsp
 \;19:00\n\nMardi&nbsp\;Swing speelt&nbsp\;gypsy&nbsp\;jazz in de traditie 
 van de gitarist Django Reinhardt en zijn&nbsp\;Quintette&nbsp\;du Hot Club
  de France. Vrolijke swing\, afgewisseld met een enkele ballad. Ook staan 
 er een paar echte zigeunernummers&nbsp\;en&nbsp\;balkan&nbsp\;beat&nbsp\;o
 p het repertoire. &nbsp\;\n\nDe band bestaat uit:\n\nErwin&nbsp\;Kandou\, 
 gitaar\; Hans Rikken\, klarinet\, saxofoon en zang\; Hans Don\, gitaar en 
 zang\; Luc Staub\, gitaar en zang en Petra de Ruiter\, contrabas.\nFreeVri
 j toegang\n
CATEGORIES:Horeca,Muziek
LOCATION:Tapperij De Verwachting\, Dorpsstraat 584\, Assendelft\, 1566 EK\,
  Nederland
X-APPLE-STRUCTURED-LOCATION;VALUE=URI;X-ADDRESS=Dorpsstraat 584\, Assendelf
 t\, 1566 EK\, Nederland;X-APPLE-RADIUS=100;X-TITLE=Tapperij De Verwachting
 :geo:0,0
END:VEVENT
BEGIN:VTIMEZONE
TZID:Europe/Amsterdam
X-LIC-LOCATION:Europe/Amsterdam
BEGIN:DAYLIGHT
DTSTART:20250330T030000
TZOFFSETFROM:+0100
TZOFFSETTO:+0200
TZNAME:CEST
END:DAYLIGHT
END:VTIMEZONE
END:VCALENDAR