BEGIN:VCALENDAR
VERSION:2.0
PRODID:-//wp-events-plugin.com//7.2.3.1//EN
TZID:Europe/Amsterdam
X-WR-TIMEZONE:Europe/Amsterdam
BEGIN:VEVENT
UID:34175@agenda-zaanstreek.nl
DTSTART;TZID=Europe/Amsterdam:20241112T140000
DTEND;TZID=Europe/Amsterdam:20241112T140000
DTSTAMP:20240808T095304Z
URL:https://agenda-zaanstreek.nl/events/marcia-bamberg-swing-quartet/
SUMMARY:Marcia Bamberg Swing Quartet
DESCRIPTION:\n\nIt don't mean a thing if it ain't got that Gipsy Swing!\n&n
 bsp\;\n 	Muziek\, Theater in de middag\n\n\n\n\nMarcia Bamberg neemt je me
 e op een muzikale reis langs de sterk ritmische muziek\, waarin Amerikaans
 e jazz\, Franse Musette en traditionele Gipsymuziek zich vermengen tot Gip
 syjazz. Deze muziekstijl\, ook wel Gipsy Swing genoemd\, ontstond in de ja
 ren dertig binnen de Roma-gemeenschappen in Parijs. Een heerlijke middag v
 ol muziek en verhalen over grondlegger Django Reinhardt\, waarin je ook Ma
 rcia en haar kwartet persoonlijk leert kennen.\n\n\n\nLees meer\n\n\n\n\nP
 rijzen\n\n\n\n\n\nExtra informatie:\n\n\n\n\n\ndi12 nov 202414.00Kleine Za
 alLaatste kaarten\n\n
CATEGORIES:Muziek
LOCATION:Zaantheater\, Nicolaasstraat 3\, Zaandam\, 1506 BB\, Nederland
X-APPLE-STRUCTURED-LOCATION;VALUE=URI;X-ADDRESS=Nicolaasstraat 3\, Zaandam\
 , 1506 BB\, Nederland;X-APPLE-RADIUS=100;X-TITLE=Zaantheater:geo:0,0
END:VEVENT
BEGIN:VTIMEZONE
TZID:Europe/Amsterdam
X-LIC-LOCATION:Europe/Amsterdam
BEGIN:STANDARD
DTSTART:20241027T020000
TZOFFSETFROM:+0200
TZOFFSETTO:+0100
TZNAME:CET
END:STANDARD
END:VTIMEZONE
END:VCALENDAR