BEGIN:VCALENDAR
VERSION:2.0
PRODID:-//wp-events-plugin.com//7.2.3.1//EN
TZID:Europe/Amsterdam
X-WR-TIMEZONE:Europe/Amsterdam
BEGIN:VEVENT
UID:39140@agenda-zaanstreek.nl
DTSTART;TZID=Europe/Amsterdam:20250624T200000
DTEND;TZID=Europe/Amsterdam:20250625T200000
DTSTAMP:20250612T094750Z
URL:https://agenda-zaanstreek.nl/events/malle-babbe-de-rob-de-nijs-musical
 /
SUMMARY:Malle Babbe - De Rob de Nijs musical
DESCRIPTION:\n\n\nDe muziek en de rijke carrière van Rob de Nijs komen tot
  leven in de gloednieuwe musical Malle Babbe.&nbsp\;De musical is gebaseer
 d op een waargebeurd en bepalend moment in Robs leven\, waarin hij zweeft 
 tussen droom en werkelijkheid. Door de ziekte van Parkinson is hij tot wei
 nig meer in staat. Om hem op te vrolijken\, neemt Jet hem mee terug naar z
 ijn jongere jaren en stappen ze samen in het Circus van zijn Geheugen.\n\n
 \n\n\n\n\nVergezeld door Zuster Ursula en Malle Babbe komen ze zijn vader 
 en vrienden van vroeger tegen\, waaronder Lennaert Nijgh en Anneke Grönlo
 h. Samen herbeleven ze hoogte- en dieptepunten uit zijn rijke en spraakmak
 ende carrière. Het winnen van zijn eerste talentenjacht\, een optreden in
  Voor De Vuist Weg bij Willem Duys\, de eerste hit ‘Ritme van de Regen
 ’\, het grote succes van ‘Banger Hart’ en nog veel meer.\n\nEn hoe z
 at het al die jaren nou echt met Robs liefdesleven en de honderden affaire
 s? Jet wil de onderste steen boven hebben. Dit levert herkenbare\, breekba
 re\, maar ook humoristische momenten op.\n\nRené van Kooten speelt Rob de
  Nijs en Lottie Hellingman en Maartje van de Wetering spelen afwisselend J
 et de Nijs. Samen met de rest van de cast brengen zij het verhaal en alle 
 grote hits tot leven in een prachtige setting met live orkest.\n\nGa mee o
 p deze fantasierijke reis en laat Rob je nog een keer terugvoeren naar de 
 kroegen met blond schuimend bier waarin hij afrekent met de heren van fats
 oen.\n\n&nbsp\;\n\nLet op: In deze voorstelling worstelt 1 van de personag
 es met gedachten aan zelfdoding en heeft depressieve gevoelens. Als je zel
 f hulp nodig hebt of ergens mee zit\, zoek dan contact met bijvoorbeeld ww
 w.113.nl of bel 0800-0113.\n\n\nLees meer\n\n\n\n\nPrijzen\n\n\n\n\n\nRece
 nsies\n\n\n\n\nExtra informatie:\n\n\n\n\n\ndi24 jun 202520.00Albert Heijn
 zaalLaatste kans\nwo25 jun 202520.00Albert HeijnzaalLaatste kans\n\n
CATEGORIES:Musical
LOCATION:Zaantheater\, Nicolaasstraat 3\, Zaandam\, 1506 BB\, Nederland
X-APPLE-STRUCTURED-LOCATION;VALUE=URI;X-ADDRESS=Nicolaasstraat 3\, Zaandam\
 , 1506 BB\, Nederland;X-APPLE-RADIUS=100;X-TITLE=Zaantheater:geo:0,0
END:VEVENT
BEGIN:VTIMEZONE
TZID:Europe/Amsterdam
X-LIC-LOCATION:Europe/Amsterdam
BEGIN:DAYLIGHT
DTSTART:20250330T030000
TZOFFSETFROM:+0100
TZOFFSETTO:+0200
TZNAME:CEST
END:DAYLIGHT
END:VTIMEZONE
END:VCALENDAR