BEGIN:VCALENDAR
VERSION:2.0
PRODID:-//wp-events-plugin.com//7.2.3.1//EN
TZID:Europe/Amsterdam
X-WR-TIMEZONE:Europe/Amsterdam
BEGIN:VEVENT
UID:37011@agenda-zaanstreek.nl
DTSTART;TZID=Europe/Amsterdam:20250215T133000
DTEND;TZID=Europe/Amsterdam:20250215T133000
DTSTAMP:20250123T202235Z
URL:https://agenda-zaanstreek.nl/events/maak-kennis-met-raku/
SUMMARY:Maak kennis met Raku
DESCRIPTION:Raku is een eeuwenoude Japanse stooktechniek waarbij het glazuu
 r van een stuk keramiek craqueleert. Na het bakken en glazuren van het aar
 dewerk\, wordt het in een gasoven zeer snel tot een temperatuur gebracht v
 an 950 graden. Het aardewerk wordt uit de oven gehaald en aan de buitenluc
 ht blootgesteld. Door de snelle afkoeling komen er barstjes het glazuur. V
 ervolgens wordt het in een zaagselton gelegd\, waar zaagsel ontbrandt en r
 ook veroorzaakt. Vervolgens worden de barsten in het glazuur door het rook
 proces zwart ingekleurd. Het samenspel van hout\, vuur\, water en zuurstof
  zorgt voor spectaculaire resultaten!Danielle deelt graag al haar kennis d
 ie ze de afgelopen jaren heeft opgedaan over het stoken in een raku-oven. 
 Je gaat aan de slag met een vaasje die al eerder door Danielle is ontworpe
 n\, gebrand en geglazuurd. Je maakt het vaasje dus niet zelf\, maar maakt 
 bij deze workshop vooral kennis met het raku proces. Wil je graag het hele
  proces doorlopen? Neem dan deel aan een andere workshop van Danielle\, wa
 arbij je ook aan de slag gaat met het modelleren.Prijs 69 eurowww.rakuexpe
 rience.comDanielle van Assema 0655727696
CATEGORIES:Cursus Workshop
LOCATION:Raku Experience\, Klaverland 12\, Wormer\, Nederland
X-APPLE-STRUCTURED-LOCATION;VALUE=URI;X-ADDRESS=Klaverland 12\, Wormer\, Ne
 derland;X-APPLE-RADIUS=100;X-TITLE=Raku Experience:geo:0,0
END:VEVENT
BEGIN:VTIMEZONE
TZID:Europe/Amsterdam
X-LIC-LOCATION:Europe/Amsterdam
BEGIN:STANDARD
DTSTART:20241027T020000
TZOFFSETFROM:+0200
TZOFFSETTO:+0100
TZNAME:CET
END:STANDARD
END:VTIMEZONE
END:VCALENDAR