BEGIN:VCALENDAR
VERSION:2.0
PRODID:-//wp-events-plugin.com//7.2.3.1//EN
TZID:Europe/Amsterdam
X-WR-TIMEZONE:Europe/Amsterdam
BEGIN:VEVENT
UID:38870@agenda-zaanstreek.nl
DTSTART;TZID=Europe/Amsterdam:20250612T121500
DTEND;TZID=Europe/Amsterdam:20250612T140000
DTSTAMP:20250527T194317Z
URL:https://agenda-zaanstreek.nl/events/lunchbijeenkomst-met-arthur-brand-
 nederlands-bekendste-kunstdetective/
SUMMARY:Lunchbijeenkomst met Arthur Brand\, Nederlands bekendste kunstdetec
 tive
DESCRIPTION:\n\nDe lunchbijeenkomst met Arthur Brand\, Nederlands bekendste
  kunstdetective\, vindt op 12 juni plaats. Een bijzondere gelegenheid voor
  wie geïnteresseerd is in kunst\, criminaliteit\, internationale samenwer
 king of gewoon houdt van een goed verhaal.\n\n\nTijdens deze sessie vertel
 t Brand over zijn werk aan wereldberoemde zaken\, zoals de terugkeer van g
 estolen Van Goghs en een eeuwenoud Brueghel-schilderij. Je krijgt een excl
 usieve inkijk in de wereld van kunstsmokkel\, vervalsingen en morele dilem
 ma’s in de kunstmarkt.\n\n\n Donderdag 12 juni\n 12.15 – 14.00 uur\n A
 rtzaanstad\, Grote Hulzen 11\, Zaandam (Hembrugterrein)\n Meld je aan via 
 info@de-maatschappij.nl of bezoek www.de-maatschappij.nl\n
CATEGORIES:Lezing
LOCATION:Artzaanstad Kunstuitleen- Galerie\, Grote Hulzen 11\, Zaandam\, 15
 05 RH\, Hembrugterrein\, Nederland
X-APPLE-STRUCTURED-LOCATION;VALUE=URI;X-ADDRESS=Grote Hulzen 11\, Zaandam\,
  1505 RH\, Hembrugterrein\, Nederland;X-APPLE-RADIUS=100;X-TITLE=Artzaanst
 ad Kunstuitleen- Galerie:geo:0,0
END:VEVENT
BEGIN:VTIMEZONE
TZID:Europe/Amsterdam
X-LIC-LOCATION:Europe/Amsterdam
BEGIN:DAYLIGHT
DTSTART:20250330T030000
TZOFFSETFROM:+0100
TZOFFSETTO:+0200
TZNAME:CEST
END:DAYLIGHT
END:VTIMEZONE
END:VCALENDAR