BEGIN:VCALENDAR
VERSION:2.0
PRODID:-//wp-events-plugin.com//7.2.3.1//EN
TZID:Europe/Amsterdam
X-WR-TIMEZONE:Europe/Amsterdam
BEGIN:VEVENT
UID:36490@agenda-zaanstreek.nl
DTSTART;TZID=Europe/Amsterdam:20250221T203000
DTEND;TZID=Europe/Amsterdam:20250221T203000
DTSTAMP:20241219T103418Z
URL:https://agenda-zaanstreek.nl/events/lovella-telesford-we-gaan-kwijt/
SUMMARY:Lovella Telesford - We gaan kwijt
DESCRIPTION:\n\n\n 	&nbsp\;\n&nbsp\;\n 	Theatershow\, Cabaret\n\n\n\n\nEr i
 s een grote kans dat je de internet-sensatie\, Lovella Telesford's filmpje
 s\, al eens voorbij hebt zien komen op sociale media. Deze Amsterdamse moe
 der met roots in Suriname\, bespreekt serieuze onderwerpen in een komisch 
 jasje. Herkenbare situaties over familie\, kinderen\, moederschap\, daten\
 , ruzies en dagelijkse momenten die we allemaal beleven\, maar ook haar pe
 rsoonlijke leven brengt zij naar het kleine scherm. In korte tijd heeft zi
 j hiermee een grote following gecreëerd\, die zij haar "familie" noemt.\n
 \n\n\n\n\n\nTijd voor een familiebijeenkomst. Lovella neemt nooit een blad
  voor de mond\, ook niet tijdens deze show. Dus familie\, maak je klaar vo
 or hard lachen\, want we gaan ons misdragen! We gaan kwijt! En we worden n
 ooit meer gevonden!\n\n\nLees meer\n\n\n\n\nPrijzen\n\n\n\n\n\nExtra infor
 matie:\n\n\n\n\n\nvr21 feb 202520.30Kleine ZaalBestel\n\n
CATEGORIES:Cabaret,Theater
LOCATION:Zaantheater\, Nicolaasstraat 3\, Zaandam\, 1506 BB\, Nederland
X-APPLE-STRUCTURED-LOCATION;VALUE=URI;X-ADDRESS=Nicolaasstraat 3\, Zaandam\
 , 1506 BB\, Nederland;X-APPLE-RADIUS=100;X-TITLE=Zaantheater:geo:0,0
END:VEVENT
BEGIN:VTIMEZONE
TZID:Europe/Amsterdam
X-LIC-LOCATION:Europe/Amsterdam
BEGIN:STANDARD
DTSTART:20241027T020000
TZOFFSETFROM:+0200
TZOFFSETTO:+0100
TZNAME:CET
END:STANDARD
END:VTIMEZONE
END:VCALENDAR