BEGIN:VCALENDAR
VERSION:2.0
PRODID:-//wp-events-plugin.com//7.2.3.1//EN
TZID:Europe/Amsterdam
X-WR-TIMEZONE:Europe/Amsterdam
BEGIN:VEVENT
UID:35584@agenda-zaanstreek.nl
DTSTART;TZID=Europe/Amsterdam:20250418T201500
DTEND;TZID=Europe/Amsterdam:20250418T201500
DTSTAMP:20241031T134026Z
URL:https://agenda-zaanstreek.nl/events/louise-korthals-try-out-korthals-i
 n-stukken/
SUMMARY:Louise Korthals (try-out) - Korthals in stukken
DESCRIPTION:\n\n\n\n\n&nbsp\;\n\n\n\n\n\n\n\nZe is terug. Korthals behoort 
 tot de absolute cabarettop. ‘Cabaret 2.0!’\, werd geschreven na haar l
 aatste voorstelling. Met haar prachtige liedjes\, lef en imponerende spel 
 won ze alle grote prijzen die er te winnen vallen binnen haar vakgebied\, 
 waaronder de Poelifinario voor het meest indrukwekkende programma van het 
 seizoen.\n\n\nMaar Korthals functioneert beter in stukken dan als geheel\,
  zoveel is duidelijk. En ze heeft sterk de indruk dat dat ook steeds meer 
 voor de wereld geldt. Daarom gaat ze op reïntegratietournee\, finally\, o
 m te reïntegreren met zichzelf en met de wereld. Om te kijken of er nog w
 at te redden valt\, want dat voelt toch minder lullig dan gered wórden. M
 et de ijdele hoop één avond volledig te zijn.\nEen muzikale en theatrale
  ode aan alles wat onaf is.\n\nWant laten we eerlijk zijn\, is het allemaa
 l niet één grote try out?\n\nTagline: Korthals bewijst eens te meer dat 
 de mooiste dingen voortkomen uit bevlogen chaos.\n\n 	Datum:&nbsp\; 18 apr
 il 2025\n 	Aanvang: 20.15 uur\n 	Ticketprijs: € 20.00\n 	Inclusief consu
 mptie\n 	Cabaret\n\n\nTickets bestellen\n\n
CATEGORIES:Cabaret
LOCATION:Theater de Kaasfabriek\, Dorpsstraat 206\, Wormer\, 1531 HS\, Worm
 er\, Nederland
X-APPLE-STRUCTURED-LOCATION;VALUE=URI;X-ADDRESS=Dorpsstraat 206\, Wormer\, 
 1531 HS\, Wormer\, Nederland;X-APPLE-RADIUS=100;X-TITLE=Theater de Kaasfab
 riek:geo:0,0
END:VEVENT
BEGIN:VTIMEZONE
TZID:Europe/Amsterdam
X-LIC-LOCATION:Europe/Amsterdam
BEGIN:DAYLIGHT
DTSTART:20250330T030000
TZOFFSETFROM:+0100
TZOFFSETTO:+0200
TZNAME:CEST
END:DAYLIGHT
END:VTIMEZONE
END:VCALENDAR