BEGIN:VCALENDAR
VERSION:2.0
PRODID:-//wp-events-plugin.com//7.2.3.1//EN
TZID:Europe/Amsterdam
X-WR-TIMEZONE:Europe/Amsterdam
BEGIN:VEVENT
UID:35940@agenda-zaanstreek.nl
DTSTART;TZID=Europe/Amsterdam:20241129T210000
DTEND;TZID=Europe/Amsterdam:20241129T210000
DTSTAMP:20241121T153829Z
URL:https://agenda-zaanstreek.nl/events/local-big-shots-in-de-kamer/
SUMMARY:Local Big Shots in De Kamer
DESCRIPTION:
CATEGORIES:Muziek
LOCATION:De Kamer\, Dam 32 A\, Zaandam\, Nederland
X-APPLE-STRUCTURED-LOCATION;VALUE=URI;X-ADDRESS=Dam 32 A\, Zaandam\, Nederl
 and;X-APPLE-RADIUS=100;X-TITLE=De Kamer:geo:0,0
END:VEVENT
BEGIN:VTIMEZONE
TZID:Europe/Amsterdam
X-LIC-LOCATION:Europe/Amsterdam
BEGIN:STANDARD
DTSTART:20241027T020000
TZOFFSETFROM:+0200
TZOFFSETTO:+0100
TZNAME:CET
END:STANDARD
END:VTIMEZONE
END:VCALENDAR