BEGIN:VCALENDAR
VERSION:2.0
PRODID:-//wp-events-plugin.com//7.2.3.1//EN
TZID:Europe/Amsterdam
X-WR-TIMEZONE:Europe/Amsterdam
BEGIN:VEVENT
UID:37332@agenda-zaanstreek.nl
DTSTART;TZID=Europe/Amsterdam:20250215T160000
DTEND;TZID=Europe/Amsterdam:20250215T200000
DTSTAMP:20250213T105302Z
URL:https://agenda-zaanstreek.nl/events/live-wisdom-of-the-crowd/
SUMMARY:Live Wisdom of the Crowd
DESCRIPTION:Een jonge band met een hart voor de Nederpop. Per Beld als zang
 er/toetsenist\, Oliver Wester als gitarist\, Bart Hoogendijk op de drums\,
  Ruby Lee Lou Veldhuizen als bassiste en Shayn Kos als tweede toetsenist. 
 En meer konden we niet vinden maar het is vast meer dan goed!\n\nBron: Liv
 e Wisdom of the Crowd - Waarheen
CATEGORIES:Horeca,Muziek
LOCATION:Grand café Klinker\, Dorpsstraat 454\, Assendelft\, 1566 BT\, Ass
 endelft\, Nederland
X-APPLE-STRUCTURED-LOCATION;VALUE=URI;X-ADDRESS=Dorpsstraat 454\, Assendelf
 t\, 1566 BT\, Assendelft\, Nederland;X-APPLE-RADIUS=100;X-TITLE=Grand caf
 é Klinker:geo:0,0
END:VEVENT
BEGIN:VTIMEZONE
TZID:Europe/Amsterdam
X-LIC-LOCATION:Europe/Amsterdam
BEGIN:STANDARD
DTSTART:20241027T020000
TZOFFSETFROM:+0200
TZOFFSETTO:+0100
TZNAME:CET
END:STANDARD
END:VTIMEZONE
END:VCALENDAR