BEGIN:VCALENDAR
VERSION:2.0
PRODID:-//wp-events-plugin.com//7.2.3.1//EN
TZID:Europe/Amsterdam
X-WR-TIMEZONE:Europe/Amsterdam
BEGIN:VEVENT
UID:40915@agenda-zaanstreek.nl
DTSTART;TZID=Europe/Amsterdam:20251220T210000
DTEND;TZID=Europe/Amsterdam:20251220T210000
DTSTAMP:20251218T104554Z
URL:https://agenda-zaanstreek.nl/events/live-muziek-in-tapperij-de-verwach
 ting/
SUMMARY:Live muziek in Tapperij De Verwachting
DESCRIPTION:Freddy (gitaar\, zang) Leon (drums) en Ronald (bas)spelen een c
 omplete platenkast leeg van de jaren 60\, 70 en soms een uitstapje naar de
  jaren 80. Freddy en Dennis zijn muzikanten met jarenlange ervaring die we
 ten hoe ze een feestje moeten bouwen.
CATEGORIES:Horeca,Muziek
LOCATION:Tapperij De Verwachting\, Dorpsstraat 584\, Assendelft\, 1566 EK\,
  Nederland
X-APPLE-STRUCTURED-LOCATION;VALUE=URI;X-ADDRESS=Dorpsstraat 584\, Assendelf
 t\, 1566 EK\, Nederland;X-APPLE-RADIUS=100;X-TITLE=Tapperij De Verwachting
 :geo:0,0
END:VEVENT
BEGIN:VTIMEZONE
TZID:Europe/Amsterdam
X-LIC-LOCATION:Europe/Amsterdam
BEGIN:STANDARD
DTSTART:20251026T020000
TZOFFSETFROM:+0200
TZOFFSETTO:+0100
TZNAME:CET
END:STANDARD
END:VTIMEZONE
END:VCALENDAR