BEGIN:VCALENDAR
VERSION:2.0
PRODID:-//wp-events-plugin.com//7.2.3.1//EN
TZID:Europe/Amsterdam
X-WR-TIMEZONE:Europe/Amsterdam
BEGIN:VEVENT
UID:33869@agenda-zaanstreek.nl
DTSTART;TZID=Europe/Amsterdam:20250124T200000
DTEND;TZID=Europe/Amsterdam:20250124T200000
DTSTAMP:20240718T091556Z
URL:https://agenda-zaanstreek.nl/events/lionel-richie-tribute-band/
SUMMARY:Lionel Richie Tribute Band
DESCRIPTION:\n\n\n\n\n\n\n\n\n\n\n\n\n\n\n\n\n\n\n\n\n\n\n\n\nVrijdag 24 ja
 nuari komt de Lionel Richie Tribute Band naar de Bull met als leadzanger J
 ohn Oldenstam. De Surinaams-Nederlandse zanger\, songwriter en musicalacte
 ur John Oldenstam is het gezicht van de Lionel Richie Tribute Band. Hij zo
 ng in diverse musicals van Joop van den Ende zoals ‘The Lion King’ en 
 ‘Dirty Dancing’. Hij wordt in deze show begeleid door professionele mu
 zikanten die hun sporen in de tributewereld ruimschoots &nbsp\;hebben verd
 iend.\n\nIn deze gloednieuwe tributeshow komen alle bekende nummers van vo
 orbij zoals ‘All night long’\, ‘Easy’\, ‘Say you say me’\, ‘
 My destiny’\, ‘Dancing on the ceiling’\, ‘Hello’\, ‘Angel’ e
 n natuurlijk niet te vergeten het prachtige duet ‘Endless love’. Kom g
 enieten van al die fantastische songs van Lionel Richie!\n\nDe Lionel Rich
 ie Tribute Band is een productie van hetzelfde management als ABBA Tribute
 \, dat zo’n 150 shows per jaar verzorgt\, en al meermalen in de Bulleker
 k geweest is.\n\nDit&nbsp\; is een sta-concert.\n\nTickets: € 24\,00 (+ 
 € 1\,00 reserveringskosten)\nAan de deur: € 25\,00\n\n\n\n\n\n\n\n\n\n
 \n\nKOOP TICKETS\n\n\n\n\n\n\n\n\n\n
CATEGORIES:Muziek
LOCATION:Cultureel Centrum Bullekerk (Westzijderkerk)\, Westzijde 75\, Zaan
 dam\, 1506 ED\, Nederland
X-APPLE-STRUCTURED-LOCATION;VALUE=URI;X-ADDRESS=Westzijde 75\, Zaandam\, 15
 06 ED\, Nederland;X-APPLE-RADIUS=100;X-TITLE=Cultureel Centrum Bullekerk (
 Westzijderkerk):geo:0,0
END:VEVENT
BEGIN:VTIMEZONE
TZID:Europe/Amsterdam
X-LIC-LOCATION:Europe/Amsterdam
BEGIN:STANDARD
DTSTART:20241027T020000
TZOFFSETFROM:+0200
TZOFFSETTO:+0100
TZNAME:CET
END:STANDARD
END:VTIMEZONE
END:VCALENDAR