BEGIN:VCALENDAR
VERSION:2.0
PRODID:-//wp-events-plugin.com//7.2.3.1//EN
TZID:Europe/Amsterdam
X-WR-TIMEZONE:Europe/Amsterdam
BEGIN:VEVENT
UID:40247@agenda-zaanstreek.nl
DTSTART;TZID=Europe/Amsterdam:20251031T190000
DTEND;TZID=Europe/Amsterdam:20251031T210000
DTSTAMP:20250923T094650Z
URL:https://agenda-zaanstreek.nl/events/lichtjesavond-bij-de-historische-v
 ereniging-wormerveer/
SUMMARY:Lichtjesavond bij de Historische Vereniging Wormerveer
DESCRIPTION:\n\n\nDe&nbsp\;Historische Vereniging Wormerveer organiseert op
  vrijdag 31 oktober a.s. weer de welbekende lichtjesavond op de Oude Begra
 afplaats West in Wormerveer.&nbsp\;\nIn de loop der jaren is het aantal li
 chtjes uitgegroeid tot maar liefst&nbsp\;2.000 exemplaren.&nbsp\;Daardoor 
 is de begraafplaats sprookjesachtig verlicht.\n\nDe Oude Begraafplaats Wes
 t ligt aan het eind van de Marktstraat (naast het Doktershuis) en neemt bi
 nnen de Wormerveerse gemeenschap een bijzondere plek in.\n\nDankzij de ins
 panningen van de Historische Vereniging Wormerveer heeft de begraafplaats 
 in 2016 de monumentenstatus gekregen\, waardoor het behoud ervan gewaarbor
 gd is.&nbsp\;\nDe begraafplaats is tijdens de lichtjesavond voor publiek g
 eopend vanaf 19.00 uur tot 21.00 uur.&nbsp\;\n\nU wordt dringend verzocht 
 tijdens uw bezoek aan de begraafplaats op de paden te blijven en niet op d
 e graven te leunen. &nbsp\;\n\n\nBIJ HARDE WIND EN/OF REGEN GAAT DE LICHTJ
 ESAVOND NIET DOOR!&nbsp\;\n\n&nbsp\;
CATEGORIES:Erfgoed
LOCATION:Begraafplaats West Marktstraat\, Marktstraat 91\, Wormerveer\, 152
 1 DX\, Wormerveer\, Nederland
X-APPLE-STRUCTURED-LOCATION;VALUE=URI;X-ADDRESS=Marktstraat 91\, Wormerveer
 \, 1521 DX\, Wormerveer\, Nederland;X-APPLE-RADIUS=100;X-TITLE=Begraafplaa
 ts West Marktstraat:geo:0,0
END:VEVENT
BEGIN:VTIMEZONE
TZID:Europe/Amsterdam
X-LIC-LOCATION:Europe/Amsterdam
BEGIN:STANDARD
DTSTART:20251026T020000
TZOFFSETFROM:+0200
TZOFFSETTO:+0100
TZNAME:CET
END:STANDARD
END:VTIMEZONE
END:VCALENDAR