BEGIN:VCALENDAR
VERSION:2.0
PRODID:-//wp-events-plugin.com//7.2.3.1//EN
TZID:Europe/Amsterdam
X-WR-TIMEZONE:Europe/Amsterdam
BEGIN:VEVENT
UID:36978@agenda-zaanstreek.nl
DTSTART;TZID=Europe/Amsterdam:20250125T160000
DTEND;TZID=Europe/Amsterdam:20250125T200000
DTSTAMP:20250123T090543Z
URL:https://agenda-zaanstreek.nl/events/lichtjeavond-op-de-fiets/
SUMMARY:Lichtjeavond op de fiets
DESCRIPTION:Rij rondjes over het parcours van BMX Zaanstad en geniet van he
 t donker met sfeervolle bewegende lichtjes. Er is warme chocolademelk en l
 imonade.
CATEGORIES:Jeugd
LOCATION:Dorpshuis De Horn\, Krommeniedijk 161\, Krommenie\, 1561 KS\, Nede
 rland
X-APPLE-STRUCTURED-LOCATION;VALUE=URI;X-ADDRESS=Krommeniedijk 161\, Krommen
 ie\, 1561 KS\, Nederland;X-APPLE-RADIUS=100;X-TITLE=Dorpshuis De Horn:geo:
 0,0
END:VEVENT
BEGIN:VTIMEZONE
TZID:Europe/Amsterdam
X-LIC-LOCATION:Europe/Amsterdam
BEGIN:STANDARD
DTSTART:20241027T020000
TZOFFSETFROM:+0200
TZOFFSETTO:+0100
TZNAME:CET
END:STANDARD
END:VTIMEZONE
END:VCALENDAR