BEGIN:VCALENDAR
VERSION:2.0
PRODID:-//wp-events-plugin.com//7.2.3.1//EN
TZID:Europe/Amsterdam
X-WR-TIMEZONE:Europe/Amsterdam
BEGIN:VEVENT
UID:36095@agenda-zaanstreek.nl
DTSTART;TZID=Europe/Amsterdam:20250127T200000
DTEND;TZID=Europe/Amsterdam:20250127T200000
DTSTAMP:20241128T133912Z
URL:https://agenda-zaanstreek.nl/events/lichtegedichtedag-met-o-a-ivo-de-w
 ijs-katinka-polderman-en-erik-van-muiswinkel/
SUMMARY:LichteGedichteDag Met o.a. Ivo de Wijs\, Katinka Polderman en Erik 
 van Muiswinkel
DESCRIPTION:&nbsp\;\nEen traditie. Dit jaar in het Zaantheater! LichteGedic
 htenDag\, en cabaretsk rijmfestijn. De dag waarop ’s lands grootste woor
 dkunstenaars zich verzamelen voor een show vol vrolijke verzen en schuddeb
 uikpoëzie. Light verse van de bovenste boekenplank. Wie er deze avond all
 emaal optreden? Zet je schrap voor Ivo de Wijs\, Katinka Polderman\, Erik 
 van Muiswinkel\, Jan Beuving\, Theo Danes\, Mike Boddé\, Judith Nieken en
  Robin Bleeker. En dat alles onder leiding van taaltovenaars Frank van Pam
 elen en Jan J. Pieterse.&nbsp\;\n\n\n\n\nEen unieke avond die je niet mag 
 missen! Verwacht powervolle puntdichten en puntige powerpointpoëzie. Vile
 ine kwatrijnen en amazing meezingverzen. Verwacht stuiterend stuntrijm en 
 bizar korte liedjes. Kortom\, Zaanstad: verwacht een onvergetelijke ode aa
 n de tover van de Nederlandse taal. Deze unieke&nbsp\;LichteGedichtenDag&n
 bsp\;mag je gewoon niet missen!\n\n\nLees meer\n
CATEGORIES:Cabaret,Theater
LOCATION:Zaantheater\, Nicolaasstraat 3\, Zaandam\, 1506 BB\, Nederland
X-APPLE-STRUCTURED-LOCATION;VALUE=URI;X-ADDRESS=Nicolaasstraat 3\, Zaandam\
 , 1506 BB\, Nederland;X-APPLE-RADIUS=100;X-TITLE=Zaantheater:geo:0,0
END:VEVENT
BEGIN:VTIMEZONE
TZID:Europe/Amsterdam
X-LIC-LOCATION:Europe/Amsterdam
BEGIN:STANDARD
DTSTART:20241027T020000
TZOFFSETFROM:+0200
TZOFFSETTO:+0100
TZNAME:CET
END:STANDARD
END:VTIMEZONE
END:VCALENDAR