BEGIN:VCALENDAR
VERSION:2.0
PRODID:-//wp-events-plugin.com//7.2.3.1//EN
TZID:Europe/Amsterdam
X-WR-TIMEZONE:Europe/Amsterdam
BEGIN:VEVENT
UID:40245@agenda-zaanstreek.nl
DTSTART;TZID=Europe/Amsterdam:20251017T193000
DTEND;TZID=Europe/Amsterdam:20251017T193000
DTSTAMP:20250923T092248Z
URL:https://agenda-zaanstreek.nl/events/lezing-van-zaanse-en-amsterdamse-j
 offers/
SUMMARY:Lezing: “Van Zaanse en Amsterdamse Joffers”
DESCRIPTION:De Zaanse schilderessen Nelly Honig (1879-1945) en Tine Honig (
 1894-1957) volgden aan het begin van de twintigste eeuw hun opleiding aan 
 de Rijksacademie van Beeldende Kunsten in Amsterdam. Werk van hun hand is 
 aanwezig in het Zaans Museum en het Honig Breethuis.\n\nNelly werd begelei
 d door de bekende schilder en docent August Allebé\, beschermheer van de 
 Joffers\, en Tine was een leerling van Amsterdamse Joffer Coba Ritsema. 'A
 msterdamse Joffers' is de naam van een groep kunstenaressen die rond 1900 
 studeerden aan de Rijksacademie.\n\nIn de lezing wordt ingegaan op de port
 retten die Nelly schilderde van familieleden en op de Willink van Collenpr
 emie die ze in 1908 won met haar schilderij “Pauze”. Tevens is er aand
 acht voor de litho’s die ze vervaardigde voor de meisjesboeken van haar 
 tante Marie Honig.\n\nTine is vertegenwoordigd met foto’s van werk dat g
 erelateerd is aan de schilderijen van Amsterdamse Joffers als Coba Ritsema
 \, Lizzy Ansingh en Nelly Bodenheim. Thema’s zijn onder andere stilleven
 s\, poppen en het destijds populaire Japonisme.\n\nOver de Amsterdamse Jof
 fers zijn dit jaar twee exposities\, in Amsterdam (reeds voorbij) over het
  werk van Lizzy Ansingh en vanaf 19 september tot 1 maart 2026&nbsp\;in he
 t Frans Halsmuseum (Haarlem) over het oeuvre van Coba Ritsema . De Zaanse 
 Joffers Nelly en Tine Honig zijn aan een expositie in de Zaanstreek toe.&n
 bsp\;\n\nHuis van Verbinding\, Tuinstraat 4\, Zaandijk\, zaal open 19.30 u
 ur\, aanvang 20.00 uur
CATEGORIES:Lezing
LOCATION:Apostolisch Genootschap Zaandijk\, Tuinstraat 4\, Zaandijk\, 1544 
 RV\, Nederland
X-APPLE-STRUCTURED-LOCATION;VALUE=URI;X-ADDRESS=Tuinstraat 4\, Zaandijk\, 1
 544 RV\, Nederland;X-APPLE-RADIUS=100;X-TITLE=Apostolisch Genootschap Zaan
 dijk:geo:0,0
END:VEVENT
BEGIN:VTIMEZONE
TZID:Europe/Amsterdam
X-LIC-LOCATION:Europe/Amsterdam
BEGIN:DAYLIGHT
DTSTART:20250330T030000
TZOFFSETFROM:+0100
TZOFFSETTO:+0200
TZNAME:CEST
END:DAYLIGHT
END:VTIMEZONE
END:VCALENDAR