BEGIN:VCALENDAR
VERSION:2.0
PRODID:-//wp-events-plugin.com//7.2.3.1//EN
TZID:Europe/Amsterdam
X-WR-TIMEZONE:Europe/Amsterdam
BEGIN:VEVENT
UID:35707@agenda-zaanstreek.nl
DTSTART;TZID=Europe/Amsterdam:20241114T103000
DTEND;TZID=Europe/Amsterdam:20241114T103000
DTSTAMP:20241107T102620Z
URL:https://agenda-zaanstreek.nl/events/lezing-street-art-museum-murals/
SUMMARY:Lezing Street Art: Museum Murals
DESCRIPTION:\n\n\n\n&nbsp\;\n\n\n\n\n\n\n\n\n\n&nbsp\;\n\n\n\nDonderdag 14 
 november om 10:30 uur\n\nTwintig levensgrote muurschilderingen. Deze zulle
 n met het project Museum Murals in heel Nederland te zien zijn\,&nbsp\;waa
 ronder in de Zaanstreek. In een woonwijk\, op een oude fabrieksmuur of lan
 gs het spoor. Wat is het verhaal van deze Street Art\, hoe past deze kunst
 vorm in de kunstgeschiedenis? Ontdek het tijdens deze lezing\, gegeven doo
 r de&nbsp\;Vrije Academie!\nGraffiti en Streetart\nMuurschilderingen zie j
 e al in het straatbeeld sinds de jaren ’80 van de vorige eeuw: in de vor
 m van street art/graffiti. Wist je dat je naar een relatief jonge en steed
 s meer geaccepteerde kunstvorm kijkt?&nbsp\;De invloed van Street Art is z
 eer merkbaar binnen muziek\, mode en de hedendaagse beeldcultuur. Wil de a
 rtiest nou zijn kunsten laten zien of wil hij juist een boodschap overbren
 gen?&nbsp\;Wat is het verschil tussen graffiti en Street Art? En wie zijn 
 Banksy\, Keith Haring en andere bekende street artists? Tijdens deze lezin
 g kom je er alles over te weten.\n\nNa deze lezing\, gegeven door de Vrije
  Academie\, zal een wandeling door de stad niet meer hetzelfde zijn\, je z
 ult je ogen uitkijken op straat! Vanaf nu herken je de ‘tags’\, ‘thr
 ow-ups’\, ‘pieces’ en artworks en misschien lukt het je zelfs om de 
 makers erin te herkennen.\n\nTickets voor deze lezing worden uitsluitend v
 erkocht via de website van de&nbsp\;Vrije Academie.\n\n\n\nKoop tickets vi
 a de Vrije Academie
CATEGORIES:Lezing
LOCATION:Zaans Museum\, Schansend 7\, Zaandam\, 1509 AW\, Nederland
X-APPLE-STRUCTURED-LOCATION;VALUE=URI;X-ADDRESS=Schansend 7\, Zaandam\, 150
 9 AW\, Nederland;X-APPLE-RADIUS=100;X-TITLE=Zaans Museum:geo:0,0
END:VEVENT
BEGIN:VTIMEZONE
TZID:Europe/Amsterdam
X-LIC-LOCATION:Europe/Amsterdam
BEGIN:STANDARD
DTSTART:20241027T020000
TZOFFSETFROM:+0200
TZOFFSETTO:+0100
TZNAME:CET
END:STANDARD
END:VTIMEZONE
END:VCALENDAR