BEGIN:VCALENDAR
VERSION:2.0
PRODID:-//wp-events-plugin.com//7.2.3.1//EN
TZID:Europe/Amsterdam
X-WR-TIMEZONE:Europe/Amsterdam
BEGIN:VEVENT
UID:36646@agenda-zaanstreek.nl
DTSTART;TZID=Europe/Amsterdam:20250123T194500
DTEND;TZID=Europe/Amsterdam:20250123T194500
DTSTAMP:20250103T203253Z
URL:https://agenda-zaanstreek.nl/events/lezing-over-leeftijd-heelal/
SUMMARY:Lezing over leeftijd heelal
DESCRIPTION:Prof. dr. Han Zuilhof houdt op donderdag 23 januari voor\n\n\nd
 e Weer- en Sterrenkundige Kring Zaanstreek een lezing over de leeftijdsbep
 aling van het heelal. De lezing vindt vanaf 19.45 uur plaats bij Vesta.\n\
 n\n\n\n(Foto: aangeleverd)\n\nHet is moeilijk voor te stellen dat we de ma
 ximale leeftijd van ‘alles’ kunnen geven\, laat staan tamelijk nauwkeu
 rig. Je weet bijvoorbeeld vermoedelijk niet eens wanneer je betovergrootou
 ders precies leefden\, of hoe oud de oudste kerk in je stad is. Toch is da
 t\, een antwoord op hoe oud ‘alles’ is\, wel goed mogelijk.&nbsp\;\nIn
  deze lezing worden - na een korte historische context en uitleg over onde
 r andere witte dwergen - drie moderne astronomische methoden uitgelegd en 
 vergeleken\, om aan het eind van de avond tot een nauwkeurige schatting te
  kunnen komen van de leeftijd van het heelal.&nbsp\;\nVesta\, Zuideinde 19
 7. Voor belangstellenden is reserveren aan te raden. Zie ook de website ws
 kz.nl\n\n
CATEGORIES:Lezing
LOCATION:Vesta-Oostzaanse Sterrenwacht\, Zuideinde 197\, Oostzaan\, 1511 GD
 \, Nederland
X-APPLE-STRUCTURED-LOCATION;VALUE=URI;X-ADDRESS=Zuideinde 197\, Oostzaan\, 
 1511 GD\, Nederland;X-APPLE-RADIUS=100;X-TITLE=Vesta-Oostzaanse Sterrenwac
 ht:geo:0,0
END:VEVENT
BEGIN:VTIMEZONE
TZID:Europe/Amsterdam
X-LIC-LOCATION:Europe/Amsterdam
BEGIN:STANDARD
DTSTART:20241027T020000
TZOFFSETFROM:+0200
TZOFFSETTO:+0100
TZNAME:CET
END:STANDARD
END:VTIMEZONE
END:VCALENDAR