BEGIN:VCALENDAR
VERSION:2.0
PRODID:-//wp-events-plugin.com//7.2.3.1//EN
TZID:Europe/Amsterdam
X-WR-TIMEZONE:Europe/Amsterdam
BEGIN:VEVENT
UID:38169@agenda-zaanstreek.nl
DTSTART;TZID=Europe/Amsterdam:20250424T194500
DTEND;TZID=Europe/Amsterdam:20250424T194500
DTSTAMP:20250410T074321Z
URL:https://agenda-zaanstreek.nl/events/lezing-over-kosmos-in-het-klein/
SUMMARY:Lezing over kosmos in het klein
DESCRIPTION:Op donderdag 24 april houdt dr. Rob van Gent voor de Weer- en S
 terrenkundige Kring Zaanstreek een lezing over het Antikythera Mechaniek.\
 nVoor de kust van het Griekse eilandje Antikythera werd in 1901 door spons
 duikers bij toeval\neen scheepswrak gevonden. Tussen de kunstschatten ontd
 ekte men de resten van een op\neen klok lijkend mechanisme uit de eerste e
 euw voor Christus: het Antikythera Mechaniek.\nHet plaatste met zijn wijze
 rplaten\, tandwielen en gegraveerde platen de wetenschappers\nlang voor ra
 adsels. Wat was het?\nOnderzoek van Michael Wright van het Science Museum 
 Londen toont aan dat het\ninstrument met ruim dertig bronzen tandwielen de
  beweging van alle bij de Grieken bekende\nhemellichamen weergeeft. Aan de
  hand van zevenhonderd gedigitaliseerde röntgenfoto's\nconstrueerde Wrigh
 t in oktober 2005 een werkend model van het Antikythera Mechaniek.\nDe lez
 ing wordt gehouden bij Vesta\, Zuideinde 197 te Oostzaan. De aanvangstijd 
 is 19.45\nuur.\nReserveren niet-leden via e-mail jandejongwormer@kpnmail.n
 l. Zie de website wskz.nl voor\nhet aantal beschikbare plaatsen.
CATEGORIES:Lezing
LOCATION:Vesta-Oostzaanse Sterrenwacht\, Zuideinde 197\, Oostzaan\, 1511 GD
 \, Nederland
X-APPLE-STRUCTURED-LOCATION;VALUE=URI;X-ADDRESS=Zuideinde 197\, Oostzaan\, 
 1511 GD\, Nederland;X-APPLE-RADIUS=100;X-TITLE=Vesta-Oostzaanse Sterrenwac
 ht:geo:0,0
END:VEVENT
BEGIN:VTIMEZONE
TZID:Europe/Amsterdam
X-LIC-LOCATION:Europe/Amsterdam
BEGIN:DAYLIGHT
DTSTART:20250330T030000
TZOFFSETFROM:+0100
TZOFFSETTO:+0200
TZNAME:CEST
END:DAYLIGHT
END:VTIMEZONE
END:VCALENDAR