BEGIN:VCALENDAR
VERSION:2.0
PRODID:-//wp-events-plugin.com//7.2.3.1//EN
TZID:Europe/Amsterdam
X-WR-TIMEZONE:Europe/Amsterdam
BEGIN:VEVENT
UID:39612@agenda-zaanstreek.nl
DTSTART;TZID=Europe/Amsterdam:20250716T193000
DTEND;TZID=Europe/Amsterdam:20250716T193000
DTSTAMP:20250715T185850Z
URL:https://agenda-zaanstreek.nl/events/lezing-meelmolen-de-koker/
SUMMARY:Lezing Meelmolen De Koker
DESCRIPTION:Omdat de vereniging De Zaansche\nMolen honderd jaar bestaat\, b
 rengt ze elke\nmaand een andere molen voor het voetlicht. Deze\nmaand is d
 at pel- en meelmolen De Koker in\nWormer. Daarover wordt woensdag een lezi
 ng\ngegeven.\nZAANDAM\nTon Leegwater\, molenaar op De Koker\, vertelt\nove
 r de geschiedenis van de (meel-)molens in\nWormer. Al voor de opkomst van 
 houtzaag- en\noliemolens stond het gebied vol molens\n\nDe lezing begint o
 m 19.30 uur in het\nMolenmuseum aan Kalverringdijk 30 in\nZaandam. Leden v
 an De Zaansche Molen hebben\nvrij entree\, anderen betalen 7\,50 euro.\nAa
 nmelden kan via www.is.gd/5kM5XR.
CATEGORIES:Erfgoed,Lezing
LOCATION:Molenmuseum\, Kalverringdijk 30\, Zaandam\, 1509 BT\, Nederland
X-APPLE-STRUCTURED-LOCATION;VALUE=URI;X-ADDRESS=Kalverringdijk 30\, Zaandam
 \, 1509 BT\, Nederland;X-APPLE-RADIUS=100;X-TITLE=Molenmuseum:geo:0,0
END:VEVENT
BEGIN:VTIMEZONE
TZID:Europe/Amsterdam
X-LIC-LOCATION:Europe/Amsterdam
BEGIN:DAYLIGHT
DTSTART:20250330T030000
TZOFFSETFROM:+0100
TZOFFSETTO:+0200
TZNAME:CEST
END:DAYLIGHT
END:VTIMEZONE
END:VCALENDAR