BEGIN:VCALENDAR
VERSION:2.0
PRODID:-//wp-events-plugin.com//7.2.3.1//EN
TZID:Europe/Amsterdam
X-WR-TIMEZONE:Europe/Amsterdam
BEGIN:VEVENT
UID:37263@agenda-zaanstreek.nl
DTSTART;TZID=Europe/Amsterdam:20250210T201500
DTEND;TZID=Europe/Amsterdam:20250210T201500
DTSTAMP:20250207T205930Z
URL:https://agenda-zaanstreek.nl/events/lezing-kassen-van-orgels/
SUMMARY:Lezing ’Kassen van orgels’
DESCRIPTION:Beleef een fascinerende reis door de verborgen wereld van orgel
 s tijdens de lezing\n’Kassen van orgels’. George Kuiper vertelt over d
 e architectuur en techniek achter de imposante muziekinstrumenten die al e
 euwenlang mensen betoveren. Met verhalen en beelden laat hij zien hoe kuns
 t en techniek samenkomen in de\norgelkassen van onder andere de Bonifatius
 kerk in Zaandam.\nDe avond begint maandag om 20.15 uur in de Veldschuit aa
 n Veldbloemweg 6c. De koe staat klaar vanaf 19.45 uur. Er geldt vrij entre
 e.
CATEGORIES:Lezing
LOCATION:De Veldschuit | Odd Fellow huis Zaandam\, Veldbloemenweg 6 c\, Zaa
 ndam\, 1508 WV\, Nederland
X-APPLE-STRUCTURED-LOCATION;VALUE=URI;X-ADDRESS=Veldbloemenweg 6 c\, Zaanda
 m\, 1508 WV\, Nederland;X-APPLE-RADIUS=100;X-TITLE=De Veldschuit | Odd Fel
 low huis Zaandam:geo:0,0
END:VEVENT
BEGIN:VTIMEZONE
TZID:Europe/Amsterdam
X-LIC-LOCATION:Europe/Amsterdam
BEGIN:STANDARD
DTSTART:20241027T020000
TZOFFSETFROM:+0200
TZOFFSETTO:+0100
TZNAME:CET
END:STANDARD
END:VTIMEZONE
END:VCALENDAR