BEGIN:VCALENDAR
VERSION:2.0
PRODID:-//wp-events-plugin.com//7.2.3.1//EN
TZID:Europe/Amsterdam
X-WR-TIMEZONE:Europe/Amsterdam
BEGIN:VEVENT
UID:39108@agenda-zaanstreek.nl
DTSTART;TZID=Europe/Amsterdam:20251126T200000
DTEND;TZID=Europe/Amsterdam:20251126T210000
DTSTAMP:20250609T094738Z
URL:https://agenda-zaanstreek.nl/events/lezing-humor-in-de-kunst-door-marg
 reet-koeman/
SUMMARY:Lezing Humor in de kunst door Margreet Koeman
DESCRIPTION:\n\nU en ik staan er misschien niet altijd bij stil maar de rol
  van humor in de kunst is groot\, veelzijdig en vooral boeiend. De functie
  van humor varieert en kan zowel lichtvoetig als diepgaand zijn. In het en
 e kunstwerk gaat het echt om de humor\, bij de ander speelt het een bijrol
 . En\, wat voor de één grappig is\, kan voor de ander pijnlijk of grenso
 verschrijdend zijn. Waar ligt de grens?\n\nIn deze lezing laat Margreet Ko
 eman zien dat er in de kunst heel veel vormen van humor zijn en dat ze all
 emaal hun eigen functie hebben. Zij laat hiervan voorbeelden zien uit de p
 eriode 16e eeuw tot heden.\n\nReserveren voor lezingen is verplicht. Inloo
 p 19:30 uur (gratis koffie/thee) |\n\naanvang 20:00 uur | entree € 10\,-
  .\n\nLezing Margreet Koeman - Het Weefhuis
CATEGORIES:Lezing
LOCATION:Het Weefhuis\, Lagedijk 39\, Zaandijk\, 1544 BB\, Nederland
X-APPLE-STRUCTURED-LOCATION;VALUE=URI;X-ADDRESS=Lagedijk 39\, Zaandijk\, 15
 44 BB\, Nederland;X-APPLE-RADIUS=100;X-TITLE=Het Weefhuis:geo:0,0
END:VEVENT
BEGIN:VTIMEZONE
TZID:Europe/Amsterdam
X-LIC-LOCATION:Europe/Amsterdam
BEGIN:STANDARD
DTSTART:20251026T020000
TZOFFSETFROM:+0200
TZOFFSETTO:+0100
TZNAME:CET
END:STANDARD
END:VTIMEZONE
END:VCALENDAR