BEGIN:VCALENDAR
VERSION:2.0
PRODID:-//wp-events-plugin.com//7.2.3.1//EN
TZID:Europe/Amsterdam
X-WR-TIMEZONE:Europe/Amsterdam
BEGIN:VEVENT
UID:37264@agenda-zaanstreek.nl
DTSTART;TZID=Europe/Amsterdam:20250224T140000
DTEND;TZID=Europe/Amsterdam:20250224T140000
DTSTAMP:20250208T141423Z
URL:https://agenda-zaanstreek.nl/events/lezing-historisch-cafe-genealogie-
 kapstok-voor-familiegeschiedenis/
SUMMARY:Lezing Historisch Café: Genealogie – kapstok voor familiegeschie
 denis
DESCRIPTION:De mogelijkheden om je voorouders in kaart te brengen zijn tege
 nwoordig groot. Veel archiefbestanden die je hiervoor nodig hebt (o.a. bur
 gerlijke stand\, doop-trouw-begraafboeken\, bevolkingsregisters) zijn tege
 nwoordig online beschikbaar.\n\nOp maandagmiddag 24 februari 2025 verzorgt
  de afdeling Zaanstreek-Waterland van de Nederlandse Genealogische Verenig
 ing (NGV) een beginnerslezing in het Historisch Café. Uitgelegd zal worde
 n hoe je stap voor stap met voorouderonderzoek aan de gang kan gaan. Maar 
 ook voor de wat gevorderde stamboomonderzoeker is het interessant. Er word
 t iets verteld over de systematiek van het stamboomonderzoek en over de re
 gistratie van de vondsten\, Iedereen die zich wil verdiepen in zijn of haa
 r stamboom of familiegeschiedenis is welkom!\n\nLocatie: De Bovenkruier 
 – Drielse Wetering 49\, 1509 KP&nbsp\; Zaandam.\nDatum en tijd: Maandagm
 iddag 24 februari 2025 om 14.00 uur. Inloop vanaf 13.30 uur. De toegang is
  gratis\, een vrijwillige bijdrage wordt op prijs gesteld.
CATEGORIES:Erfgoed
LOCATION:Buurtcentrum De Bovenkruier\, Drielse Wetering 49\, Zaandam\, 1509
  KP\, Nederland
X-APPLE-STRUCTURED-LOCATION;VALUE=URI;X-ADDRESS=Drielse Wetering 49\, Zaand
 am\, 1509 KP\, Nederland;X-APPLE-RADIUS=100;X-TITLE=Buurtcentrum De Bovenk
 ruier:geo:0,0
END:VEVENT
BEGIN:VTIMEZONE
TZID:Europe/Amsterdam
X-LIC-LOCATION:Europe/Amsterdam
BEGIN:STANDARD
DTSTART:20241027T020000
TZOFFSETFROM:+0200
TZOFFSETTO:+0100
TZNAME:CET
END:STANDARD
END:VTIMEZONE
END:VCALENDAR