BEGIN:VCALENDAR
VERSION:2.0
PRODID:-//wp-events-plugin.com//7.2.3.1//EN
TZID:Europe/Amsterdam
X-WR-TIMEZONE:Europe/Amsterdam
BEGIN:VEVENT
UID:37320@agenda-zaanstreek.nl
DTSTART;TZID=Europe/Amsterdam:20250227T194500
DTEND;TZID=Europe/Amsterdam:20250227T194500
DTSTAMP:20250213T100543Z
URL:https://agenda-zaanstreek.nl/events/lezing-artificiele-intelligentie-i
 n-sterrenkunde/
SUMMARY:Lezing Artificiële Intelligentie in sterrenkunde
DESCRIPTION:dr. Rien Dijkstra houdt op 27 februari voor de Weer- en Sterren
 kundige Kring Zaanstreek een lezing over de toepassing van Artificiële In
 telligentie (AI) in de sterrenkunde.\n\n\nWat kan Artificiële Intelligent
 ie in sterrenkunde betekenen?&nbsp\;(Foto: aangeleverd)\n\n\nMachine Learn
 ing (ML) is dat onderdeel van AI waarbij getracht wordt om computers te la
 ten denken zoals mensen. Een van de toepassingen voor ML is het automatisc
 h analyseren van grote hoeveelheden\, uiteenlopende soorten data. ML kan o
 nder meer helpen met het vinden van structuren in deze data die door mense
 n vaak niet gevonden kunnen worden.\n\nOok in het sterrenkundig onderzoek 
 is de hoeveelheid verzamelde data in de loop der jaren explosief gegroeid 
 en wordt ML steeds vaker ingezet door astronomen om deze data te analysere
 n en daarmee de raadselen van het universum te doorgronden.\n\nDe lezing w
 ordt gehouden bij Vesta\, Zuideinde 197 te Oostzaan De aanvangstijd is 19.
 45 uur. Voor belangstellenden is reserveren aan te raden. Zie ook wskz.nl\
 n\n
CATEGORIES:Lezing
LOCATION:Vesta-Oostzaanse Sterrenwacht\, Zuideinde 197\, Oostzaan\, 1511 GD
 \, Nederland
X-APPLE-STRUCTURED-LOCATION;VALUE=URI;X-ADDRESS=Zuideinde 197\, Oostzaan\, 
 1511 GD\, Nederland;X-APPLE-RADIUS=100;X-TITLE=Vesta-Oostzaanse Sterrenwac
 ht:geo:0,0
END:VEVENT
BEGIN:VTIMEZONE
TZID:Europe/Amsterdam
X-LIC-LOCATION:Europe/Amsterdam
BEGIN:STANDARD
DTSTART:20241027T020000
TZOFFSETFROM:+0200
TZOFFSETTO:+0100
TZNAME:CET
END:STANDARD
END:VTIMEZONE
END:VCALENDAR