BEGIN:VCALENDAR
VERSION:2.0
PRODID:-//wp-events-plugin.com//7.2.3.1//EN
TZID:Europe/Amsterdam
X-WR-TIMEZONE:Europe/Amsterdam
BEGIN:VEVENT
UID:36258@agenda-zaanstreek.nl
DTSTART;TZID=Europe/Amsterdam:20241222T140000
DTEND;TZID=Europe/Amsterdam:20241222T170000
DTSTAMP:20241210T202832Z
URL:https://agenda-zaanstreek.nl/events/levende-kerststal-bij-kinderboerde
 rij-t-weidje/
SUMMARY:Levende kerststal bij kinderboerderij 't Weidje
DESCRIPTION:
CATEGORIES:Jeugd
LOCATION:Kinderboerderij 't Weidje\, Spatterstraat 105 A\, Wormer\, 1531 DC
 \, Nederland
X-APPLE-STRUCTURED-LOCATION;VALUE=URI;X-ADDRESS=Spatterstraat 105 A\, Worme
 r\, 1531 DC\, Nederland;X-APPLE-RADIUS=100;X-TITLE=Kinderboerderij 't Weid
 je:geo:0,0
END:VEVENT
BEGIN:VTIMEZONE
TZID:Europe/Amsterdam
X-LIC-LOCATION:Europe/Amsterdam
BEGIN:STANDARD
DTSTART:20241027T020000
TZOFFSETFROM:+0200
TZOFFSETTO:+0100
TZNAME:CET
END:STANDARD
END:VTIMEZONE
END:VCALENDAR