BEGIN:VCALENDAR
VERSION:2.0
PRODID:-//wp-events-plugin.com//7.2.3.1//EN
TZID:Europe/Amsterdam
X-WR-TIMEZONE:Europe/Amsterdam
BEGIN:VEVENT
UID:40871@agenda-zaanstreek.nl
DTSTART;TZID=Europe/Amsterdam:20251220T170000
DTEND;TZID=Europe/Amsterdam:20251220T170000
DTSTAMP:20251211T103343Z
URL:https://agenda-zaanstreek.nl/events/levend-bethlehem-bij-kerk-de-wijng
 aard/
SUMMARY:Levend Bethlehem bij kerk de Wijngaard
DESCRIPTION:\nBezoekers kunnen vrijdag 20 december het kerstverhaal beleven
  tijdens Levend Bethlehem bij kerk de Wijngaard\, Dorpsstraat 134A. De gra
 tis voorstelling duurt van 17.00 tot 18.30 uur.\n\n\n\n\nAlle personages d
 ie meedoen.&nbsp\;(Foto: Sylvia Wijnands )\n\n&nbsp\;\nTijdens de wandelin
 g rondom de kerk ontmoeten bezoekers verschillende figuren uit het kerstve
 rhaal. De Wijzen uit het Oosten komen met hun kamelen\, herders brengen ec
 hte schapen mee en een drukke herbergier speelt zijn rol. In de stal ligt 
 een bijzondere pasgeboren baby.\n\nEngelenkoor en warme drank\n\nEen engel
 enkoor zorgt voor muzikale begeleiding tijdens de voorstelling. Bezoekers 
 kunnen zich opwarmen met chocomelk.\n\n
CATEGORIES:Interkerkelijk
LOCATION:Nederlands Gereformeerde Kerk 'De Wijngaard'\, Dorpsstraat 134\, W
 ormer\, 1531 HP\, Nederland
X-APPLE-STRUCTURED-LOCATION;VALUE=URI;X-ADDRESS=Dorpsstraat 134\, Wormer\, 
 1531 HP\, Nederland;X-APPLE-RADIUS=100;X-TITLE=Nederlands Gereformeerde Ke
 rk 'De Wijngaard':geo:0,0
END:VEVENT
BEGIN:VTIMEZONE
TZID:Europe/Amsterdam
X-LIC-LOCATION:Europe/Amsterdam
BEGIN:STANDARD
DTSTART:20251026T020000
TZOFFSETFROM:+0200
TZOFFSETTO:+0100
TZNAME:CET
END:STANDARD
END:VTIMEZONE
END:VCALENDAR