BEGIN:VCALENDAR
VERSION:2.0
PRODID:-//wp-events-plugin.com//7.2.3.1//EN
TZID:Europe/Amsterdam
X-WR-TIMEZONE:Europe/Amsterdam
BEGIN:VEVENT
UID:40905@agenda-zaanstreek.nl
DTSTART;TZID=Europe/Amsterdam:20251227T143000
DTEND;TZID=Europe/Amsterdam:20251227T143000
DTSTAMP:20251218T102233Z
URL:https://agenda-zaanstreek.nl/events/lets-go-barbie-8-maas-theater-en-d
 ans/
SUMMARY:Let's Go Barbie (8+) - Maas theater en dans
DESCRIPTION:\n\n\n\n\n\nza 27 dec 202514.30\nKleine Zaal\n€15\,00\nJeugd 
 &amp\; Familie\n\nFavoriet\nBestel\n\n\n\n\n\n\n\n\n 	&nbsp\;\n 	Theater\n
  	Agenda\n 	Seizoen 2025-2026\n 	Let's Go Barbie (8+)\n\n\n\n\n\n\n\nVan p
 lastic naar fantastic!\n\n\n 	&nbsp\;\n&nbsp\;\n 	Jeugd &amp\; Familie\n\n
 \n\n\nWij leven in een perfecte wereld waar we onszelf en de ander steeds 
 maar weer in een hokje duwen. Doe dit! Doe dat! Kijk zo! Niet zo! Jij wel\
 , jij niet! Op zoek naar bevrijding van deze verwachtingen presenteert&nbs
 p\;Let’s go Barbie&nbsp\;een bevrijdingsdans: Een fysieke zoektocht waar
  alles wat ons geleerd is\, opnieuw wordt bekeken en herschreven.\n\n\n\n\
 n
CATEGORIES:Jeugd en Familie
LOCATION:Zaantheater\, Nicolaasstraat 3\, Zaandam\, 1506 BB\, Nederland
X-APPLE-STRUCTURED-LOCATION;VALUE=URI;X-ADDRESS=Nicolaasstraat 3\, Zaandam\
 , 1506 BB\, Nederland;X-APPLE-RADIUS=100;X-TITLE=Zaantheater:geo:0,0
END:VEVENT
BEGIN:VTIMEZONE
TZID:Europe/Amsterdam
X-LIC-LOCATION:Europe/Amsterdam
BEGIN:STANDARD
DTSTART:20251026T020000
TZOFFSETFROM:+0200
TZOFFSETTO:+0100
TZNAME:CET
END:STANDARD
END:VTIMEZONE
END:VCALENDAR