BEGIN:VCALENDAR
VERSION:2.0
PRODID:-//wp-events-plugin.com//7.2.3.1//EN
TZID:Europe/Amsterdam
X-WR-TIMEZONE:Europe/Amsterdam
BEGIN:VEVENT
UID:37336@agenda-zaanstreek.nl
DTSTART;TZID=Europe/Amsterdam:20250218T123000
DTEND;TZID=Europe/Amsterdam:20250218T160000
DTSTAMP:20250213T111528Z
URL:https://agenda-zaanstreek.nl/events/lentespelen-wormer/
SUMMARY:Lentespelen Wormer
DESCRIPTION:Kom gezellig meedoen met de Lentespelen in sporthal Wormer! De 
 kinderen kunnen vrij kiezen tussen diverse activiteiten. Geen middag is he
 tzelfde.&nbsp\;\nZe kunnen&nbsp\;bij Sport vandaag meedoen met judo met me
 ester Sjors\, voetballen\, zwaaien over de krokodillenvijver en 1/3 van de
  zaal is ingericht met een spannend klimparcours.\nBij creatief kunnen de 
 kinderen olv kunstenares Jose Conijn de mooiste creaties of recyclekunst m
 aken. Vandaag gaan ze o.a. coole afdrukken maken met noppenfolie: laat je 
 verrassen!\n\nLet op:&nbsp\;bij deze activiteit mogen ouders naar huis of 
 boven in de kantine blijven en kijken. Als uw kind het (nog) te spannend v
 indt om alleen aan de activiteiten mee te doen\, dan kunt u ook overwegen 
 om samen met uw kind mee te doen aan het Peuterfestijn (2 t/m 4 jaar) op d
 onderdag.\n\nZorgt u dat uw kind omgekleed naar de sporthal komt? En verge
 et geen zaalschoenen mee te nemen. Als u wilt dat uw kind iets eet/drinkt\
 , geef dan iets mee.\n\nDag/tijd: dinsdag 18 februari van 12.30-14.00 uur 
 groep 1 t/m 4&nbsp\; en 14.30-16.00 uur groep 4 t/m 8 en 16.30-18.00 uur 1
 2+.\nLeiding: Saskia van Schaik + docenten\nLocatie: Sporthal Wormer\nKost
 en: €3\,00\n\nMochten de kosten voor u een probleem zijn\, neem dan even
  contact op met de coördinator Saskia van Schaik: info@bredeschoolwormerl
 and.nl of 06-38624812.
CATEGORIES:Jeugd
LOCATION:Sporthal Wormer\, Spatterstraat 21\, Wormer\, 1531 DA\, Nederland
X-APPLE-STRUCTURED-LOCATION;VALUE=URI;X-ADDRESS=Spatterstraat 21\, Wormer\,
  1531 DA\, Nederland;X-APPLE-RADIUS=100;X-TITLE=Sporthal Wormer:geo:0,0
END:VEVENT
BEGIN:VTIMEZONE
TZID:Europe/Amsterdam
X-LIC-LOCATION:Europe/Amsterdam
BEGIN:STANDARD
DTSTART:20241027T020000
TZOFFSETFROM:+0200
TZOFFSETTO:+0100
TZNAME:CET
END:STANDARD
END:VTIMEZONE
END:VCALENDAR