BEGIN:VCALENDAR
VERSION:2.0
PRODID:-//wp-events-plugin.com//7.2.3.1//EN
TZID:Europe/Amsterdam
X-WR-TIMEZONE:Europe/Amsterdam
BEGIN:VEVENT
UID:37341@agenda-zaanstreek.nl
DTSTART;TZID=Europe/Amsterdam:20250220T143000
DTEND;TZID=Europe/Amsterdam:20250220T163000
DTSTAMP:20250213T112746Z
URL:https://agenda-zaanstreek.nl/events/lentespelen-wormer-groep-4-t-m-8/
SUMMARY:Lentespelen Wormer (groep 4 t/m 8)
DESCRIPTION:Kom gezellig meedoen met de Lentespelen in sporthal Wormer! De 
 kinderen kunnen vrij kiezen tussen diverse activiteiten. Geen middag is he
 tzelfde.&nbsp\;\n\nZe kunnen&nbsp\;bij Sport vandaag meedoen met een heuse
  rhönrad workshop\, rennen met de reaction lights\, zwaaien over de kroko
 dillenvijver en 1/3 van de zaal is ingericht met een spannend klimparcours
 .\n\nBij creatief kunnen de kinderen olv kunstenares Jose Conijn de mooist
 e creaties of recyclekunst maken. Vandaag gaan ze o.a. een vis maken van i
 jzerdraad en allerlei andere materialen.\n\nZorgt u dat uw kind omgekleed 
 naar de sporthal komt? Dan hoeven ze alleen nog schoenen te wisselen. Als 
 u wilt dat uw kind iets eet/drinkt\, geef dan iets mee.\n\nDag/tijd: donde
 rdag 20 februari van 14.30-16.00\nLeiding: Saskia van Schaik + docenten\nL
 ocatie: Sporthal Wormer\nKosten: €3\,00\n\nMochten de kosten voor u een 
 probleem zijn\, neem dan even contact op met de coördinator Saskia van Sc
 haik: info@bredeschoolwormerland.nl of 06-38624812.\n\nInschrijven\n&nbsp\
 ;\n
CATEGORIES:Jeugd
LOCATION:Sporthal Wormer\, Spatterstraat 21\, Wormer\, 1531 DA\, Nederland
X-APPLE-STRUCTURED-LOCATION;VALUE=URI;X-ADDRESS=Spatterstraat 21\, Wormer\,
  1531 DA\, Nederland;X-APPLE-RADIUS=100;X-TITLE=Sporthal Wormer:geo:0,0
END:VEVENT
BEGIN:VTIMEZONE
TZID:Europe/Amsterdam
X-LIC-LOCATION:Europe/Amsterdam
BEGIN:STANDARD
DTSTART:20241027T020000
TZOFFSETFROM:+0200
TZOFFSETTO:+0100
TZNAME:CET
END:STANDARD
END:VTIMEZONE
END:VCALENDAR