BEGIN:VCALENDAR
VERSION:2.0
PRODID:-//wp-events-plugin.com//7.2.3.1//EN
TZID:Europe/Amsterdam
X-WR-TIMEZONE:Europe/Amsterdam
BEGIN:VEVENT
UID:37330@agenda-zaanstreek.nl
DTSTART;TZID=Europe/Amsterdam:20250320T100000
DTEND;TZID=Europe/Amsterdam:20250320T110000
DTSTAMP:20250213T104246Z
URL:https://agenda-zaanstreek.nl/events/lente-wandeling-vanaf-zwembad-de-s
 lag/
SUMMARY:Lente wandeling vanaf Zwembad De Slag
DESCRIPTION:\nElk kwartaal een gratis seizoenswandeling in Zaandam\n\n\n\n\
 nMet de seizoenswandelingen van Gezond Natuur Wandelen en Sportbedrijf Zaa
 nstad beleeft u het voorjaar met andere ogen. Een leuke manier om buurtgen
 oten te leren kennen\, om wat meer te bewegen en om met elkaar te genieten
  van de wisselende seizoenen. Een wandel uurtje met gezelligheid en inspir
 atie.\n\n\n\n\nLocatie\nZwembad De slag\n\nKosten\nGratis\n\nDoelgroep\nIe
 dereen (alle leeftijden)\n\n
CATEGORIES:Recreatiesport,Sociaal
LOCATION:Zwembad De Slag\, Koningsgeelstraat 3\, Zaandam\, 1503 NA\, Nederl
 and
X-APPLE-STRUCTURED-LOCATION;VALUE=URI;X-ADDRESS=Koningsgeelstraat 3\, Zaand
 am\, 1503 NA\, Nederland;X-APPLE-RADIUS=100;X-TITLE=Zwembad De Slag:geo:0,
 0
END:VEVENT
BEGIN:VTIMEZONE
TZID:Europe/Amsterdam
X-LIC-LOCATION:Europe/Amsterdam
BEGIN:STANDARD
DTSTART:20241027T020000
TZOFFSETFROM:+0200
TZOFFSETTO:+0100
TZNAME:CET
END:STANDARD
END:VTIMEZONE
END:VCALENDAR