BEGIN:VCALENDAR
VERSION:2.0
PRODID:-//wp-events-plugin.com//7.2.3.1//EN
TZID:Europe/Amsterdam
X-WR-TIMEZONE:Europe/Amsterdam
BEGIN:VEVENT
UID:36769@agenda-zaanstreek.nl
DTSTART;TZID=Europe/Amsterdam:20250117T100000
DTEND;TZID=Europe/Amsterdam:20250117T130000
DTSTAMP:20250113T195710Z
URL:https://agenda-zaanstreek.nl/events/lekker-warm-in-de-petruskerk/
SUMMARY:Lekker warm in de Petruskerk
DESCRIPTION:\n\n\nIs het buiten te koud en binnen te stil? Dan heeft de St.
  Petruskerk vrijdagochtend plek voor jou.\n\nhttps://www.deorkaan.nl/lekke
 r-warm-in-de-petruskerk/&nbsp\;\n\n
LOCATION:Petruskerk\, Snuiverstraat 2\, Krommenie\, 1561 HD\, Krommenie\, N
 ederland
X-APPLE-STRUCTURED-LOCATION;VALUE=URI;X-ADDRESS=Snuiverstraat 2\, Krommenie
 \, 1561 HD\, Krommenie\, Nederland;X-APPLE-RADIUS=100;X-TITLE=Petruskerk:g
 eo:0,0
END:VEVENT
BEGIN:VTIMEZONE
TZID:Europe/Amsterdam
X-LIC-LOCATION:Europe/Amsterdam
BEGIN:STANDARD
DTSTART:20241027T020000
TZOFFSETFROM:+0200
TZOFFSETTO:+0100
TZNAME:CET
END:STANDARD
END:VTIMEZONE
END:VCALENDAR