BEGIN:VCALENDAR
VERSION:2.0
PRODID:-//wp-events-plugin.com//7.2.3.1//EN
TZID:Europe/Amsterdam
X-WR-TIMEZONE:Europe/Amsterdam
BEGIN:VEVENT
UID:35458@agenda-zaanstreek.nl
DTSTART;TZID=Europe/Amsterdam:20250417T203000
DTEND;TZID=Europe/Amsterdam:20250417T203000
DTSTAMP:20241024T123318Z
URL:https://agenda-zaanstreek.nl/events/leids-cabaret-festival-2025-finali
 stentour/
SUMMARY:Leids Cabaret Festival 2025 | Finalistentour
DESCRIPTION:donderdag 17 april 20.30 uur\nwww.theateroostzaan.nl/17-april-2
 025-leids-cabaret-festival\n\n\n\n\n\n\n&nbsp\;\n\n\n\n\n\n\nPrijs: € 19
 .00 inclusief consumptie\nKoop tickets hier.\n\n\nNajib Amhali\, Paulien C
 ornelisse\, Wim Helsen\, Sanne Wallis de Vries\, Micha Wertheim\, Sara Kro
 os\, Tim Fransen\, Lisa Ostermann\, Kasper van der Laan: ze spelen nu voor
  uitverkochte grote zalen\, maar zetten ooit hun eerste cabaret-stappen al
 s finalist van het Leids Cabaret Festival! Direct na het festival maken de
  finalisten in het voorjaar een tournee door het land\, om de finale-avond
  nog eens integraal over te doen. Zo krijgen ze de kans om zich te ontwikk
 elen. Ontdek dus nú nieuwe grote cabaretnamen vóórdat ze bekend worden 
 bij het grote publiek. Laat je verrassen\, en wie weet wordt het een UI-tj
 e om te huilen van het lachen!\n\n
CATEGORIES:Cabaret
LOCATION:De KunstGreep\, Kerkbuurt 4\, Oostzaan\, 1511 BD\, Nederland
X-APPLE-STRUCTURED-LOCATION;VALUE=URI;X-ADDRESS=Kerkbuurt 4\, Oostzaan\, 15
 11 BD\, Nederland;X-APPLE-RADIUS=100;X-TITLE=De KunstGreep:geo:0,0
END:VEVENT
BEGIN:VTIMEZONE
TZID:Europe/Amsterdam
X-LIC-LOCATION:Europe/Amsterdam
BEGIN:DAYLIGHT
DTSTART:20250330T030000
TZOFFSETFROM:+0100
TZOFFSETTO:+0200
TZNAME:CEST
END:DAYLIGHT
END:VTIMEZONE
END:VCALENDAR