BEGIN:VCALENDAR
VERSION:2.0
PRODID:-//wp-events-plugin.com//7.2.3.1//EN
TZID:Europe/Amsterdam
X-WR-TIMEZONE:Europe/Amsterdam
BEGIN:VEVENT
UID:38631@agenda-zaanstreek.nl
DTSTART;TZID=Europe/Amsterdam:20250525T140000
DTEND;TZID=Europe/Amsterdam:20250525T140000
DTSTAMP:20250510T153044Z
URL:https://agenda-zaanstreek.nl/events/ledenvergadering-met-lezing-hans-l
 uiten-over-armoede-en-rijkdom-in-de-zaanstreek/
SUMMARY:Ledenvergadering met lezing Hans Luiten over Armoede en Rijkdom in 
 de Zaanstreek
DESCRIPTION:Ledenvergadering met lezing door Hans Luiten\n\nDeze maand geen
  historisch café op de laatste maandag van de maand\, maar op zondagmidda
 g 25 mei de Algemene Ledenvergadering van Historisch Zaandam met als speci
 ale gastspreker Hans Luiten. Thema van deze middag is Armoede en Rijkdom i
 n de Zaanstreek.\n\nDe Algemene Ledenvergadering wordt gehouden op zondag 
 25 mei 2025 in het buurtcentrum\, De Bovenkruier\, Drielse Wetering 49\, 1
 509 KP Zaandam (Kalf). Aanvang 14.00 uur\, inloop vanaf 13.30 uur. De toeg
 ang is gratis. Ook niet-leden van Historisch Zaandam zijn welkom.\n\nLees 
 verder voor de officiële uitnodiging en agenda voor deze bijeenkomst.\n\n
 &nbsp\;\n\nDe Zaanstreek staat onder haar eigen inwoners bekend als een ge
 moedelijke streek waar mensen elkaar gedag zeggen\, standsverschillen geen
  grote rol spelen en gewoon al snel gek genoeg is. Maar klopt dat beeld we
 l? Hoe past Comte de Veau (graaf Nicolaas Calf) in dit verhaal? En de enor
 me villa's op de Westzijde in Zaandam? En de sjieke grafstenen van de nota
 belen op de begraafplaats van Wormerveer? In deze lezing laat Hans Luiten 
 zien hoe het nou zit met de rangen en standen aan de Zaan.
CATEGORIES:Erfgoed,Lezing
LOCATION:Buurtcentrum De Bovenkruier\, Drielse Wetering 49\, Zaandam\, 1509
  KP\, Nederland
X-APPLE-STRUCTURED-LOCATION;VALUE=URI;X-ADDRESS=Drielse Wetering 49\, Zaand
 am\, 1509 KP\, Nederland;X-APPLE-RADIUS=100;X-TITLE=Buurtcentrum De Bovenk
 ruier:geo:0,0
END:VEVENT
BEGIN:VTIMEZONE
TZID:Europe/Amsterdam
X-LIC-LOCATION:Europe/Amsterdam
BEGIN:DAYLIGHT
DTSTART:20250330T030000
TZOFFSETFROM:+0100
TZOFFSETTO:+0200
TZNAME:CEST
END:DAYLIGHT
END:VTIMEZONE
END:VCALENDAR