BEGIN:VCALENDAR
VERSION:2.0
PRODID:-//wp-events-plugin.com//7.2.3.1//EN
TZID:Europe/Amsterdam
X-WR-TIMEZONE:Europe/Amsterdam
BEGIN:VEVENT
UID:36488@agenda-zaanstreek.nl
DTSTART;TZID=Europe/Amsterdam:20250220T200000
DTEND;TZID=Europe/Amsterdam:20250220T200000
DTSTAMP:20241219T103144Z
URL:https://agenda-zaanstreek.nl/events/lebbis-het-spaanse-kussen/
SUMMARY:Lebbis - Het Spaanse kussen
DESCRIPTION:\n\n\nNa de succesvolle oudejaarsconference met zijn vriend Dol
 f Jansen\, is het weer tijd voor een nieuwe solo van Lebbis! Maar wat is H
 et Spaanse Kussen? Als je wist hoe het met de Titanic zou eindigen\, was e
 r niet zoveel aan. Als je weet wie de wedstrijd wint\, kijkt dat toch een 
 stuk minder leuk. Als je weet dat ze ja zegt\, is het aanzoek spanningsloo
 s. Dus google het niet. Hou die spanning vast. Lebbis zal het allemaal dui
 den.\n\n\n\nLees meer\n\n\n\n\nPrijzen\n\n\n\n\n\n\ndo20 feb 202520.00Albe
 rt HeijnzaalBestel\n\n
CATEGORIES:Cabaret
LOCATION:Zaantheater\, Nicolaasstraat 3\, Zaandam\, 1506 BB\, Nederland
X-APPLE-STRUCTURED-LOCATION;VALUE=URI;X-ADDRESS=Nicolaasstraat 3\, Zaandam\
 , 1506 BB\, Nederland;X-APPLE-RADIUS=100;X-TITLE=Zaantheater:geo:0,0
END:VEVENT
BEGIN:VTIMEZONE
TZID:Europe/Amsterdam
X-LIC-LOCATION:Europe/Amsterdam
BEGIN:STANDARD
DTSTART:20241027T020000
TZOFFSETFROM:+0200
TZOFFSETTO:+0100
TZNAME:CET
END:STANDARD
END:VTIMEZONE
END:VCALENDAR