BEGIN:VCALENDAR
VERSION:2.0
PRODID:-//wp-events-plugin.com//7.2.3.1//EN
TZID:Europe/Amsterdam
X-WR-TIMEZONE:Europe/Amsterdam
BEGIN:VEVENT
UID:33877@agenda-zaanstreek.nl
DTSTART;TZID=Europe/Amsterdam:20241116T203000
DTEND;TZID=Europe/Amsterdam:20241116T203000
DTSTAMP:20240718T093336Z
URL:https://agenda-zaanstreek.nl/events/lebbis-het-spaanse-kussen-try-out/
SUMMARY:Lebbis | Het Spaanse Kussen (try-out)
DESCRIPTION:ZATERDAG 16 NOVEMBER 20.30 UUR\nwww.theateroostzaan.nl/16-novem
 ber-2024-lebbis\n\n\n\n\n\n\n&nbsp\;\n\n\n\n\n\n\nPrijs: € 20.00 inclusi
 ef consumptie\nKoop tickets hier.\n\n\nNa een messcherpe Oudejaars met z
 ’n oude maatje Dolf Jansen gaat Hans Sibbel\, Lebbis\, de theaters in me
 t een splinternieuwe solo: ‘Het Spaanse Kussen’. Hè? Wat is dat? Prec
 ies. Google het niet. Houd je in. Als je wist hoe het met de Titanic zou e
 indigen\, was er niet zoveel aan. Als je weet dat ze ‘ja’ zegt\, is he
 t aanzoek toch spanningsloos. Het Spaanse Kussen. Google het niet. Hou die
  spanning vast. Lebbis zal het u allemaal duiden. Dit wordt een reis die v
 eel leuker is als je niet weet waar het heen gaat. Vertrouw hem nou maar. 
 Hij weet al 30 jaar wat ie doet. Het Spaanse Kussen. En als je weet wat he
 t is. Dat is het niet. Het is net wat anders.\n\n
CATEGORIES:Cabaret
LOCATION:De KunstGreep\, Kerkbuurt 4\, Oostzaan\, 1511 BD\, Nederland
X-APPLE-STRUCTURED-LOCATION;VALUE=URI;X-ADDRESS=Kerkbuurt 4\, Oostzaan\, 15
 11 BD\, Nederland;X-APPLE-RADIUS=100;X-TITLE=De KunstGreep:geo:0,0
END:VEVENT
BEGIN:VTIMEZONE
TZID:Europe/Amsterdam
X-LIC-LOCATION:Europe/Amsterdam
BEGIN:STANDARD
DTSTART:20241027T020000
TZOFFSETFROM:+0200
TZOFFSETTO:+0100
TZNAME:CET
END:STANDARD
END:VTIMEZONE
END:VCALENDAR