BEGIN:VCALENDAR
VERSION:2.0
PRODID:-//wp-events-plugin.com//7.2.3.1//EN
TZID:Europe/Amsterdam
X-WR-TIMEZONE:Europe/Amsterdam
BEGIN:VEVENT
UID:39277@agenda-zaanstreek.nl
DTSTART;TZID=Europe/Amsterdam:20250628T103000
DTEND;TZID=Europe/Amsterdam:20250628T163000
DTSTAMP:20250626T072520Z
URL:https://agenda-zaanstreek.nl/events/kunst-uit-de-bocht/
SUMMARY:Kunst uit de bocht
DESCRIPTION:\n\n\n\n\n\n\n\n\n\n\n\n\n\n\n\n\nMaar liefst 80 kramen&nbsp\;m
 et Kunst staan op u te wachten op 28 juni in Wormerveer. Veel kunst van ku
 nstenaars met een grote diversiteit op een locatie met een prachtige ambia
 nce- De Zaanbocht van Wormerveer. En het is niet alleen kijken. Dit jaar z
 ijn er meer workshops waar u spontaan aan kunt deelnemen. Voor de kinderen
  is er een Kids doe pleintje aanwezig waar ze zich onder begeleiding op cr
 eatieve wijze kunnen uitleven.&nbsp\; De terrassen zijn de hele dag open. 
 Een glaasje wijn\, een stokbroodje en dan brengt Margo ook nog Franse Chan
 sons ten gehore. Kan het Franser? En u hoeft hiervoor niet naar Parijs. Op
  28 juni ligt het&nbsp\;MONTMARTE AAN DE ZAAN.\n\n\n\nOp dit moment zij al
 le kramen verhuurd\, maar het is niet uitgesloten dat deelnemers door bepa
 alde omstandigheden uiteindelijk toch moeten afzeggen. Wanneer u denkt “
 dan zou ik die plaats wel willen overnemen” laat het ons dan weten door 
 een mailtje te sturen naar kunstuitdebocht@gmail.com. We zetten u dan op d
 e reservelijst en wie weet.\n\nHet feest begint om 10:30 en eindigt rond d
 e klok van 16:30u. We hopen u daar te ontmoeten\n\nMeer info: Vijfde editi
 e Kunst uit de Bocht: Montmartre aan de Zaan | Al het nieuws uit Zaanstad\
 n\n\n\n\n\n
CATEGORIES:Expositie,Markt Braderie
LOCATION:Wormerveer Zaanbocht\, -\, Wormerveer\, Wormerveer\, Nederland
X-APPLE-STRUCTURED-LOCATION;VALUE=URI;X-ADDRESS=-\, Wormerveer\, Wormerveer
 \, Nederland;X-APPLE-RADIUS=100;X-TITLE=Wormerveer Zaanbocht:geo:0,0
END:VEVENT
BEGIN:VTIMEZONE
TZID:Europe/Amsterdam
X-LIC-LOCATION:Europe/Amsterdam
BEGIN:DAYLIGHT
DTSTART:20250330T030000
TZOFFSETFROM:+0100
TZOFFSETTO:+0200
TZNAME:CEST
END:DAYLIGHT
END:VTIMEZONE
END:VCALENDAR