BEGIN:VCALENDAR
VERSION:2.0
PRODID:-//wp-events-plugin.com//7.2.3.1//EN
TZID:Europe/Amsterdam
X-WR-TIMEZONE:Europe/Amsterdam
BEGIN:VEVENT
UID:36647@agenda-zaanstreek.nl
DTSTART;TZID=Europe/Amsterdam:20250108T083000
DTEND;TZID=Europe/Amsterdam:20250218T170000
DTSTAMP:20250103T203540Z
URL:https://agenda-zaanstreek.nl/events/kunst-in-de-kunstgreep-expositie-e
 igen-kleur/
SUMMARY:Kunst in De KunstGreep: expositie ‘Eigen Kleur’
DESCRIPTION:Kunstenaarscollectief Eigen Kleur exposeert van 8 januari tot 1
 8 februari in de openbare ruimte van De KunstGreep. De expositie is doorde
 weeks gratis te bezoeken tussen 8.30 en 17.00 uur (vrijdags tot 12.00 uur)
  en tijdens activiteiten en theatervoorstellingen in het theater.\n\n\n\n(
 Foto: aangeleverd)\n\nEr is werk te zien van vijf exposanten.\nAnneke Kuip
 er - Gebruik makend van verschillende materialen creëert Anneke organisch
 e vormen geïnspireerd op groei in de natuur. Er is duidelijk een link met
  de natuur maar de weergave is vervreemdend\, de toegepaste materialen bre
 ngen de kunstwerken haast tot leven.\nStefan Koopman - Grote kleurvlakken 
 en vloeiende lijnen karakteriseren de werken van Stefan. De contrasten die
  te zien zijn in vorm\, kleur\, lijn en textuur geven de kijker een afwiss
 elend beeld tussen beweging en stilstand. De beweging wordt hierdoor zicht
 baar\, de kern van zijn kunstwerken.\n\n\n\n\n\nWilga Hoek - De vader van 
 Wilga filmde haar jeugdjaren die waren gevuld met plezier en warmte. Het p
 aradijs uit haar jonge jaren\, waar zij nu de digitale weergave van onderg
 aat\, wordt gereflecteerd in het beeldscherm van het heden.\n\n\n\n\nBente
  Visser - Gestileerde vormen van planten\, in surrealistisch aandoende wer
 elden\, worden door Bente weergegeven op grote schilderijen. De gebruikte 
 kleuren en textuur geven een rustgevend verstild beeld.\nMargot Andriessen
  - Met een abstracte compositie van (pasteuze) olieverf\, geeft Margot een
  compacte impressie weer van beleving van cultuur en natuur. Haar werken z
 ijn gelaagd en organisch.\nMeer informatie over het kunstenaarscollectief 
 staat op www.EigenKleur.com\n\n
CATEGORIES:Expositie
LOCATION:De KunstGreep\, Kerkbuurt 4\, Oostzaan\, 1511 BD\, Nederland
X-APPLE-STRUCTURED-LOCATION;VALUE=URI;X-ADDRESS=Kerkbuurt 4\, Oostzaan\, 15
 11 BD\, Nederland;X-APPLE-RADIUS=100;X-TITLE=De KunstGreep:geo:0,0
END:VEVENT
BEGIN:VTIMEZONE
TZID:Europe/Amsterdam
X-LIC-LOCATION:Europe/Amsterdam
BEGIN:STANDARD
DTSTART:20241027T020000
TZOFFSETFROM:+0200
TZOFFSETTO:+0100
TZNAME:CET
END:STANDARD
END:VTIMEZONE
END:VCALENDAR