BEGIN:VCALENDAR
VERSION:2.0
PRODID:-//wp-events-plugin.com//7.2.3.1//EN
TZID:Europe/Amsterdam
X-WR-TIMEZONE:Europe/Amsterdam
BEGIN:VEVENT
UID:39278@agenda-zaanstreek.nl
DTSTART;TZID=Europe/Amsterdam:20250628T150000
DTEND;TZID=Europe/Amsterdam:20250628T150000
DTSTAMP:20250619T093745Z
URL:https://agenda-zaanstreek.nl/events/kruispuntpop/
SUMMARY:Kruispuntpop
DESCRIPTION:Ook dit jaar verzorgt &nbsp\;Tapperij de Verwachting Kruispuntp
 op. De bands die vandaag optreden zijn: Trashwood\, Wasted Generation\, Da
 ys of Sway en Rabauw. Meer informatie over de bands vind je op de&nbsp\;we
 bsite&nbsp\;van De Verwachting.
CATEGORIES:Horeca,Muziek
LOCATION:Tapperij De Verwachting\, Dorpsstraat 584\, Assendelft\, 1566 EK\,
  Nederland
X-APPLE-STRUCTURED-LOCATION;VALUE=URI;X-ADDRESS=Dorpsstraat 584\, Assendelf
 t\, 1566 EK\, Nederland;X-APPLE-RADIUS=100;X-TITLE=Tapperij De Verwachting
 :geo:0,0
END:VEVENT
BEGIN:VTIMEZONE
TZID:Europe/Amsterdam
X-LIC-LOCATION:Europe/Amsterdam
BEGIN:DAYLIGHT
DTSTART:20250330T030000
TZOFFSETFROM:+0100
TZOFFSETTO:+0200
TZNAME:CEST
END:DAYLIGHT
END:VTIMEZONE
END:VCALENDAR