BEGIN:VCALENDAR
VERSION:2.0
PRODID:-//wp-events-plugin.com//7.2.3.1//EN
TZID:Europe/Amsterdam
X-WR-TIMEZONE:Europe/Amsterdam
BEGIN:VEVENT
UID:38414@agenda-zaanstreek.nl
DTSTART;TZID=Europe/Amsterdam:20250425T210000
DTEND;TZID=Europe/Amsterdam:20250425T210000
DTSTAMP:20250424T100738Z
URL:https://agenda-zaanstreek.nl/events/koningsnacht-jisper-gekte/
SUMMARY:Koningsnacht – Jisper Gekte
DESCRIPTION:Vrijdag 25 april gaan is er weer de Jisper Gekte! Als je er vor
 ig jaar niet bij was\, is dit je kans.\nLive optredens vanaf 21 uur\n\n 	J
 eff van Vliet\n 	Benjamin van de Logt\n 	Dave Miller\n 	Robin Kalshoven\n 
 	Andrea\n\nKaarten aan de bar!\n\n\nAlles op een rijtje\n\n 	&nbsp\;25 apr
 il 2024\n 	&nbsp\;21:00 uur\n 	Kosten: € 10\n\n
CATEGORIES:Horeca,Muziek
LOCATION:Dorpshuis De Lepelaar\, Molenpad 2\, Jisp\, 1546 LC\, Nederland
X-APPLE-STRUCTURED-LOCATION;VALUE=URI;X-ADDRESS=Molenpad 2\, Jisp\, 1546 LC
 \, Nederland;X-APPLE-RADIUS=100;X-TITLE=Dorpshuis De Lepelaar:geo:0,0
END:VEVENT
BEGIN:VTIMEZONE
TZID:Europe/Amsterdam
X-LIC-LOCATION:Europe/Amsterdam
BEGIN:DAYLIGHT
DTSTART:20250330T030000
TZOFFSETFROM:+0100
TZOFFSETTO:+0200
TZNAME:CEST
END:DAYLIGHT
END:VTIMEZONE
END:VCALENDAR