BEGIN:VCALENDAR
VERSION:2.0
PRODID:-//wp-events-plugin.com//7.2.3.1//EN
TZID:Europe/Amsterdam
X-WR-TIMEZONE:Europe/Amsterdam
BEGIN:VEVENT
UID:40768@agenda-zaanstreek.nl
DTSTART;TZID=Europe/Amsterdam:20251129T120000
DTEND;TZID=Europe/Amsterdam:20251129T170000
DTSTAMP:20251127T110356Z
URL:https://agenda-zaanstreek.nl/events/kom-kijken-bij-de-slaapkamer-van-s
 interklaas-en-de-pietenzolder/
SUMMARY:Kom kijken bij de slaapkamer van Sinterklaas en de Pietenzolder
DESCRIPTION:Slaapkamer van Sinterklaas en de Pietenzolder\nZaterdag 29 nove
 mber\n’t Reghthuys in Westzaan\nTijd: 12:00-17:00 uur\nKom kijken bij de
  slaapkamer van Sinterklaas en de Pietenzolder.\nVrije inloop
CATEGORIES:Jeugd en Familie
LOCATION:Het Reghthuys Westzaan\, Kerkbuurt 35\, Westzaan\, 1551 AB\, Neder
 land
X-APPLE-STRUCTURED-LOCATION;VALUE=URI;X-ADDRESS=Kerkbuurt 35\, Westzaan\, 1
 551 AB\, Nederland;X-APPLE-RADIUS=100;X-TITLE=Het Reghthuys Westzaan:geo:0
 ,0
END:VEVENT
BEGIN:VTIMEZONE
TZID:Europe/Amsterdam
X-LIC-LOCATION:Europe/Amsterdam
BEGIN:STANDARD
DTSTART:20251026T020000
TZOFFSETFROM:+0200
TZOFFSETTO:+0100
TZNAME:CET
END:STANDARD
END:VTIMEZONE
END:VCALENDAR