BEGIN:VCALENDAR
VERSION:2.0
PRODID:-//wp-events-plugin.com//7.2.3.1//EN
TZID:Europe/Amsterdam
X-WR-TIMEZONE:Europe/Amsterdam
BEGIN:VEVENT
UID:40564@agenda-zaanstreek.nl
DTSTART;TZID=Europe/Amsterdam:20251106T170000
DTEND;TZID=Europe/Amsterdam:20251106T210000
DTSTAMP:20251104T195547Z
URL:https://agenda-zaanstreek.nl/events/koken-met-mannen-met-kankerervarin
 gen/
SUMMARY:Koken met mannen met kankerervaringen
DESCRIPTION:Mannen die zelf of als naaste te\nmaken hebben (gehad) met kank
 er kunnen elkaar\nontmoeten tijdens een informele activiteit:\n’Mannen m
 et pannen’&nbsp\; Tijdens het\nbereiden van een driegangendiner en natuu
 rlijk\ndaarna tijdens het nuttigen van al het lekkers is\nvolop ruimte om 
 in een ontspannen sfeer\nervaringen te delen en (h)erkenning te vinden bij
 \n\nelkaar.\n\nDe avond is donderdag van 17-21 uur in Anna’s\nhuis aan K
 oningin Julianaplein 18. Deelname kost\n15 euro. Aanmelden via\nsecretaria
 at@annashuis.nl. Zie voor meer\ninformatie www.annashuis.nl.
CATEGORIES:Sociaal
LOCATION:Centrum voor Leven met kanker | Anna's huis\, Zorgboulevard Koning
 in Julianaplein 18 \, Zaandam\, 1502 DV\, Nederland
X-APPLE-STRUCTURED-LOCATION;VALUE=URI;X-ADDRESS=Zorgboulevard Koningin Juli
 anaplein 18 \, Zaandam\, 1502 DV\, Nederland;X-APPLE-RADIUS=100;X-TITLE=Ce
 ntrum voor Leven met kanker | Anna's huis:geo:0,0
END:VEVENT
BEGIN:VTIMEZONE
TZID:Europe/Amsterdam
X-LIC-LOCATION:Europe/Amsterdam
BEGIN:STANDARD
DTSTART:20251026T020000
TZOFFSETFROM:+0200
TZOFFSETTO:+0100
TZNAME:CET
END:STANDARD
END:VTIMEZONE
END:VCALENDAR