BEGIN:VCALENDAR
VERSION:2.0
PRODID:-//wp-events-plugin.com//7.2.3.1//EN
TZID:Europe/Amsterdam
X-WR-TIMEZONE:Europe/Amsterdam
BEGIN:VEVENT
UID:36847@agenda-zaanstreek.nl
DTSTART;TZID=Europe/Amsterdam:20250117T140000
DTEND;TZID=Europe/Amsterdam:20250117T140000
DTSTAMP:20250115T202158Z
URL:https://agenda-zaanstreek.nl/events/knuffelen-en-knutselen-bij-het-wei
 dje/
SUMMARY:Knuffelen en knutselen bij Het Weidje
DESCRIPTION:\nVRIJDAG 17 JANUARI: KNUFFELEN\, EN KNUTSELEN BIJ HET WEIDJE\n
 \n\nHoud je ook zo van tekenen\, kleuren\, knippen en plakken?\n\n\nDat is
  wat we vrijdagmiddag 17 januari gaan doen bij Kinderboerderij Het Weidje 
 . Je maakt een mooie tekening van een boerderij\, kleurt die in\, en plakt
  er daarna stickers van boerderij dieren op en misschien ook nog ' wiebelo
 ogjes' als je dat leuk vindt. Vervolgens gaat er een mooie ' lijst' omheen
  en klaar is je schilderij !!\n\n\nIk heb ook stickers van vissen en ander
 e zeedieren\, dus je kunt ook een schilderij maken van de zee of een aquar
 ium.\n\n\nDe aktiviteit start om 14.30 uur ( aanschuiven kan tot ongeveer 
 15.15 uur) en kost 2\,50 euro. Daarvoor krijg je dan ook nog een bekertje 
 limonade en een snoepje.\n\n\nDiezelfde middag kan er tussen 14.00 en 14.3
 0 uur geknuffeld worden met de konijntjes en de cavia's in de stal. Dat is
  gewoon gratis.\n\n\nIk heb er weer zin in. Jullie ook?\n\n\nTot vrijdag a
 llemaal.\n\n\nKnutseltante Tiny\n
CATEGORIES:Jeugd
LOCATION:Kinderboerderij 't Weidje\, Spatterstraat 105 A\, Wormer\, 1531 DC
 \, Nederland
X-APPLE-STRUCTURED-LOCATION;VALUE=URI;X-ADDRESS=Spatterstraat 105 A\, Worme
 r\, 1531 DC\, Nederland;X-APPLE-RADIUS=100;X-TITLE=Kinderboerderij 't Weid
 je:geo:0,0
END:VEVENT
BEGIN:VTIMEZONE
TZID:Europe/Amsterdam
X-LIC-LOCATION:Europe/Amsterdam
BEGIN:STANDARD
DTSTART:20241027T020000
TZOFFSETFROM:+0200
TZOFFSETTO:+0100
TZNAME:CET
END:STANDARD
END:VTIMEZONE
END:VCALENDAR