BEGIN:VCALENDAR
VERSION:2.0
PRODID:-//wp-events-plugin.com//7.2.3.1//EN
TZID:Europe/Amsterdam
X-WR-TIMEZONE:Europe/Amsterdam
BEGIN:VEVENT
UID:37116@agenda-zaanstreek.nl
DTSTART;TZID=Europe/Amsterdam:20250207T210000
DTEND;TZID=Europe/Amsterdam:20250207T210000
DTSTAMP:20250130T135455Z
URL:https://agenda-zaanstreek.nl/events/knees-up-the-legendary-hangovers/
SUMMARY:Knees Up! & The Legendary Hangovers
DESCRIPTION:\n\n\n\n\n\n\n\n\n\n 	\n\nvrijdag\, feb 07\, 2025Open: 20:30Aan
 vang: 21:00Prijs: VVK: €5\,- Deur: €6\,-\n\n\n\n\n\nBIO KNEES UP!\n&nb
 sp\;\nOuwe rotten KW en Muus vormen samen met jonge rotten Maartje en Pete
 r sinds 2021 Knees Up!. Repertoire bestaat uit covers van o.a. Sham 69\, U
 K Subs en Green Day aangevuld met ska getint eigen werk als “Kiss the Br
 ide”.&nbsp\; Dit alles onder het motto “it is good to have (your)&nbsp
 \;Knees&nbsp\;Up!”\n&nbsp\;\nBIO THE LEGENDARY HANGOVERS:\n&nbsp\;\nThe 
 Legendary Hangovers bestaan dit jaar 21 jaar en noemen zich gekscherend 
 “The Best Bar Band On This Side Of The Zaan”.&nbsp\; Aan welke kant va
 n de Zaan laten ze wijselijk in het midden. De band klinkt alsof ze achter
 na wordt gezeten door een horde dolle wolven. Ze spelen veelal eigen schri
 jfsels over drank\, gemene vrouwen\, robots\, aliens\, monsters en flatcap
 s in de stijlen rock ‘n’ roll\, cowpunk\, rhythm ‘n’ blues\, surf 
 en garagerock. Het gebruik van een megafoon en telefoonmicrofoon wordt hie
 rbij geenszins geschuwd. Met hun energieke podiumpresentatie zetten gitari
 st Razorblade Bob\, drummer Helmer Rocket\, bassist Maarten van Rhinestone
  en de dolle frontman Reverend Pat elke kroeg en elk festival op z’n kop
 . Gegarandeerd feest dus!\n&nbsp\;\n\n\n\n\n\n\n
CATEGORIES:Muziek
LOCATION:De Groote Weiver\, Industrieweg 1a\, Wormerveer\, 1521 NA\, Wormer
 veer\, Nederland
X-APPLE-STRUCTURED-LOCATION;VALUE=URI;X-ADDRESS=Industrieweg 1a\, Wormervee
 r\, 1521 NA\, Wormerveer\, Nederland;X-APPLE-RADIUS=100;X-TITLE=De Groote 
 Weiver:geo:0,0
END:VEVENT
BEGIN:VTIMEZONE
TZID:Europe/Amsterdam
X-LIC-LOCATION:Europe/Amsterdam
BEGIN:STANDARD
DTSTART:20241027T020000
TZOFFSETFROM:+0200
TZOFFSETTO:+0100
TZNAME:CET
END:STANDARD
END:VTIMEZONE
END:VCALENDAR