BEGIN:VCALENDAR
VERSION:2.0
PRODID:-//wp-events-plugin.com//7.2.3.1//EN
TZID:Europe/Amsterdam
X-WR-TIMEZONE:Europe/Amsterdam
BEGIN:VEVENT
UID:36493@agenda-zaanstreek.nl
DTSTART;TZID=Europe/Amsterdam:20250223T150000
DTEND;TZID=Europe/Amsterdam:20250223T150000
DTSTAMP:20241219T103840Z
URL:https://agenda-zaanstreek.nl/events/knallen-next-level-6-percussie-ens
 emble-4beat/
SUMMARY:Knallen! Next level (6+) - Percussie-ensemble 4Beat
DESCRIPTION:\n\n\nDe vier percussionisten van 4Beat laten in Knallen! Next 
 Level&nbsp\;kinderen kennismaken met trommels en ritmes uit de hele wereld
 . Spetterende drums en percussie uit Afrika\, Azië en Latijns-Amerika wor
 den gecombineerd met sounds van de DJ\, zang en dans.\n\n\n\n\n\n\nKindere
 n worden uitgedaagd om ritmische missies te voltooien en zelf percussiehel
 den te worden.&nbsp\;Knallen! Next Level&nbsp\;biedt een smeltkroes van mu
 zikale tradities die de zintuigen zal prikkelen. Met traditionele en heden
 daagse percussie-instrumenten ontdekken ze diverse ritmes\, van opzwepende
  Afrikaanse ritmes tot aanstekelijke Latijns-Amerikaanse beats. Bij 4Beat 
 geloven we in de kracht van diversiteit en dat komt tot uiting in de groep
  zelf. Mis deze onweerstaanbare ervaring niet!\n\n\nLees meer\n\n\n\n\nPri
 jzen\n\n\n\n\n\nExtra informatie:\n\n\n\n\n\nzo23 feb 202515.00Albert Heij
 nzaalBestel\n\n
CATEGORIES:Jeugd en Familie
LOCATION:Zaantheater\, Nicolaasstraat 3\, Zaandam\, 1506 BB\, Nederland
X-APPLE-STRUCTURED-LOCATION;VALUE=URI;X-ADDRESS=Nicolaasstraat 3\, Zaandam\
 , 1506 BB\, Nederland;X-APPLE-RADIUS=100;X-TITLE=Zaantheater:geo:0,0
END:VEVENT
BEGIN:VTIMEZONE
TZID:Europe/Amsterdam
X-LIC-LOCATION:Europe/Amsterdam
BEGIN:STANDARD
DTSTART:20241027T020000
TZOFFSETFROM:+0200
TZOFFSETTO:+0100
TZNAME:CET
END:STANDARD
END:VTIMEZONE
END:VCALENDAR