BEGIN:VCALENDAR
VERSION:2.0
PRODID:-//wp-events-plugin.com//7.2.3.1//EN
TZID:Europe/Amsterdam
X-WR-TIMEZONE:Europe/Amsterdam
BEGIN:VEVENT
UID:40872@agenda-zaanstreek.nl
DTSTART;TZID=Europe/Amsterdam:20251217T150000
DTEND;TZID=Europe/Amsterdam:20251217T210000
DTSTAMP:20251211T103818Z
URL:https://agenda-zaanstreek.nl/events/kleurrijke-kerstmarkt-bij-jongeren
 werk/
SUMMARY:Kleurrijke Kerstmarkt bij Jongerenwerk
DESCRIPTION:\nDe Jongerenwerkers van het Sociaal Wijkteam organiseren ook d
 it jaar weer samen met partners een supergezellige kerstmarkt. Kom langs v
 oor oliebollen\, poffertjes\, hotdogs en nog veel meer lekkers dat onze jo
 ngeren zelf voorbereiden. Alles wat er wordt opgehaald gaat naar een goed 
 doel.&nbsp\;\n\n\n\n\n&#x1f4c5\;&nbsp\;Datum:&nbsp\;Woensdag 17 december 2
 025\n&#x1f552\;&nbsp\;Tijd:&nbsp\;15:00 – 21:00 uur\n&#x1f4cd\;&nbsp\;Lo
 catie:&nbsp\;Panneroodstraat 3\, 1503 XH Zaandam\n\nWaarom je dit niet wil
 t missen:\n\n 	Geniet van heerlijke hapjes en drankjes: oliebollen\, poffe
 rtjes\, hotdogs\, chocomelk\, koffie &amp\; thee\n 	Leuke kraampjes met ke
 rstspullen\, sieraden en lekkernijen\n 	Een feestelijke sfeer met kerstman
 nen\, elfjes en gezelligheid\n 	Samen doen we iets goeds:&nbsp\;de volledi
 ge opbrengst gaat naar het goede doel&nbsp\;(graag contante betaling).\nHe
 t goede doel wordt tijdens de kerstmarkt gekozen door wijkbewoners.&nbsp\;
 \n\nAfgelopen jaar was het al een groot succes en hing er een fijne\, fees
 telijke sfeer. Dit jaar maken we het&nbsp\;nog leuker! Kom ook langs om te
  genieten\, te supporten en samen iets moois te doen voor een ander.\n\nDe
 ze kerstmarkt wordt georganiseerd in samenwerking met:\nGemeente Zaanstad\
 , SK Coaching\, Sociaal Wijkteam\, Jongerenwerk\, Kinderwerk\, Pact Zaanda
 m-Oost en Resto vanHarte.\n\n&#x1f4de\;&nbsp\;Meer informatie:\n06 19 69 9
 0 30\n\n\n\n
CATEGORIES:Sociaal
LOCATION:Buurthuis Kleurrijk\, Panneroodstraat 3\, Zaandam\, Nederland
X-APPLE-STRUCTURED-LOCATION;VALUE=URI;X-ADDRESS=Panneroodstraat 3\, Zaandam
 \, Nederland;X-APPLE-RADIUS=100;X-TITLE=Buurthuis Kleurrijk:geo:0,0
END:VEVENT
BEGIN:VTIMEZONE
TZID:Europe/Amsterdam
X-LIC-LOCATION:Europe/Amsterdam
BEGIN:STANDARD
DTSTART:20251026T020000
TZOFFSETFROM:+0200
TZOFFSETTO:+0100
TZNAME:CET
END:STANDARD
END:VTIMEZONE
END:VCALENDAR