BEGIN:VCALENDAR
VERSION:2.0
PRODID:-//wp-events-plugin.com//7.2.3.1//EN
TZID:Europe/Amsterdam
X-WR-TIMEZONE:Europe/Amsterdam
BEGIN:VEVENT
UID:37105@agenda-zaanstreek.nl
DTSTART;TZID=Europe/Amsterdam:20250212T193000
DTEND;TZID=Europe/Amsterdam:20250212T193000
DTSTAMP:20250130T131608Z
URL:https://agenda-zaanstreek.nl/events/klaverjassen-bij-nova-zembla-in-wo
 rmer/
SUMMARY:Klaverjassen bij Nova Zembla in Wormer
DESCRIPTION:\n\n\n\nElke 2e Woensdag van de Maand ( vanaf September ) 19:00
  inschrijving en start is om 19:30 uur .&nbsp\; is er&nbsp\; Klaverjassen 
 bij Nova Zembla in Wormer!\n\nDe kosten voor klaverjassen zijn&nbsp\; €3
 \,- per persoon.\n\nWij heten u van harte welkom voor een avond vol kaartp
 lezier en competitie. Of je nu een doorgewinterde speler bent of een begin
 ner\, iedereen is welkom om mee te doen.\n\nEr zijn leuke prijzen te winne
 n. Mis het niet en neem je kaartmaatje mee voor een onvergetelijke avond. 
 Tot dan!\n\n\n\n\n\n\n\n\n
CATEGORIES:Spellen (bingo-bridge-etc)
LOCATION:IJsclub Nova Zembla\, Dorpsstraat 214 a \, Wormer\, 1531 HS\, Nede
 rland
X-APPLE-STRUCTURED-LOCATION;VALUE=URI;X-ADDRESS=Dorpsstraat 214 a \, Wormer
 \, 1531 HS\, Nederland;X-APPLE-RADIUS=100;X-TITLE=IJsclub Nova Zembla:geo:
 0,0
END:VEVENT
BEGIN:VTIMEZONE
TZID:Europe/Amsterdam
X-LIC-LOCATION:Europe/Amsterdam
BEGIN:STANDARD
DTSTART:20241027T020000
TZOFFSETFROM:+0200
TZOFFSETTO:+0100
TZNAME:CET
END:STANDARD
END:VTIMEZONE
END:VCALENDAR